BEGIN:VCALENDAR
VERSION:2.0
PRODID:-//ProsperityLab - ECPv6.15.11//NONSGML v1.0//EN
CALSCALE:GREGORIAN
METHOD:PUBLISH
X-WR-CALNAME:ProsperityLab
X-ORIGINAL-URL:https://prosperitylab.org/plb
X-WR-CALDESC:Events for ProsperityLab
REFRESH-INTERVAL;VALUE=DURATION:PT1H
X-Robots-Tag:noindex
X-PUBLISHED-TTL:PT1H
BEGIN:VTIMEZONE
TZID:America/Los_Angeles
BEGIN:DAYLIGHT
TZOFFSETFROM:-0800
TZOFFSETTO:-0700
TZNAME:PDT
DTSTART:20220313T100000
END:DAYLIGHT
BEGIN:STANDARD
TZOFFSETFROM:-0700
TZOFFSETTO:-0800
TZNAME:PST
DTSTART:20221106T090000
END:STANDARD
BEGIN:DAYLIGHT
TZOFFSETFROM:-0800
TZOFFSETTO:-0700
TZNAME:PDT
DTSTART:20230312T100000
END:DAYLIGHT
BEGIN:STANDARD
TZOFFSETFROM:-0700
TZOFFSETTO:-0800
TZNAME:PST
DTSTART:20231105T090000
END:STANDARD
BEGIN:DAYLIGHT
TZOFFSETFROM:-0800
TZOFFSETTO:-0700
TZNAME:PDT
DTSTART:20240310T100000
END:DAYLIGHT
BEGIN:STANDARD
TZOFFSETFROM:-0700
TZOFFSETTO:-0800
TZNAME:PST
DTSTART:20241103T090000
END:STANDARD
END:VTIMEZONE
BEGIN:VEVENT
DTSTART;VALUE=DATE:20230510
DTEND;VALUE=DATE:20230511
DTSTAMP:20260422T051641
CREATED:20230510T195512Z
LAST-MODIFIED:20230510T195512Z
UID:1810-1683676800-1683763199@prosperitylab.org
SUMMARY:Dia de Las Madres
DESCRIPTION:
URL:https://prosperitylab.org/plb/event/dia-de-las-madres/
LOCATION:CA
ATTACH;FMTTYPE=image/jpeg:https://prosperitylab.org/plb/wp-content/uploads/2023/05/¡Feliz-dia-de-la-madre-Mil-gracias-Mama.jpg
END:VEVENT
BEGIN:VEVENT
DTSTART;TZID=America/Los_Angeles:20230512T100000
DTEND;TZID=America/Los_Angeles:20230512T130000
DTSTAMP:20260422T051641
CREATED:20230510T233944Z
LAST-MODIFIED:20230510T234219Z
UID:1822-1683885600-1683896400@prosperitylab.org
SUMMARY:Tools to Grow Your Online Presence and Manage Your Finances
DESCRIPTION:Connect with other small business owners and entrepreneurs to learn about important resources and tools to help your small business thrive. Celebrate and take part in National Small Business Month this May by connecting with other small business owners and entrepreneurs to learn about important resources and tools to help your small business thrive. \nTwo panels will share information on: \n• How to use social media like TikTok or Instagram Reels\, Search Engine Optimization or paid targeted advertisements to market your business; \n• Financial tools business owners need to organize their paperwork for tax purposes or apply for a loan. \nIn addition\, meet other small business owners\, network with City staff\, non-profit organizations and service providers to learn about resources that can help your business succeed. \nThis event is free and lunch will be provided. CLICK HERE \nLive interpretation in Spanish\, Vietnamese or Chinese can be provided – \nAnswer ‘yes’ to interpretation when registering.
URL:https://prosperitylab.org/plb/event/tools-to-grow-your-online-presence-and-manage-your-finances/
LOCATION:San Jose City Hall\, 200 E Santa Clara Street\, San Jose\, CA\, 95131\, United States
ATTACH;FMTTYPE=image/jpeg:https://prosperitylab.org/plb/wp-content/uploads/2023/05/https___cdn.evbuc_.com_images_500142289_256180685202_1_original.jpg
END:VEVENT
BEGIN:VEVENT
DTSTART;VALUE=DATE:20230514
DTEND;VALUE=DATE:20230515
DTSTAMP:20260422T051641
CREATED:20230510T201231Z
LAST-MODIFIED:20230510T201231Z
UID:1817-1684022400-1684108799@prosperitylab.org
SUMMARY:Mother's Day
DESCRIPTION:
URL:https://prosperitylab.org/plb/event/mothers-day/
LOCATION:CA
ATTACH;FMTTYPE=image/png:https://prosperitylab.org/plb/wp-content/uploads/2023/05/momday.png
END:VEVENT
BEGIN:VEVENT
DTSTART;TZID=America/Los_Angeles:20230516T180000
DTEND;TZID=America/Los_Angeles:20230516T200000
DTSTAMP:20260422T051641
CREATED:20230510T035436Z
LAST-MODIFIED:20230516T004313Z
UID:1782-1684260000-1684267200@prosperitylab.org
SUMMARY:Arranca tu Negocio ¡tu puedes LOGRARLO!
DESCRIPTION:  \nARRANCA TU NEGOCIO es una gran experiencia personal y profesional. Si estas en etapa de abrir tu negocio debes participar en estos cursos. \nARRANCAR TU NEGOCIO implica muchos retos y aventuras\, es por esto que desarrollamos una serie de talleres que te ayudaran  a dar el primer paso para Arrancar tu negocio de manera correcta y con bases solidas para que tu negocio sea rentable y exitoso.\nEstos cursos estan brindados por Prosperity Lab con apoyo de SBA\, las oficinade desarrollo economico y de asuntos inmigrantes de la ciudad de San Jose y nuestro huesped la oficina del consul General de Mexico En San Jose. Esta serie de 6 talleres GRATUITOS\, impartidos por expertos en diferentes áreas de negocio que te daran las herramientas serán tu guía y te llevaran de la mano en este proceso\n“Arranca tu negocio”\nSeis talleres GRATUITOS\nImpartidos cada martes por seis semanas\n6:00 – 8:00 p.m.\nCuatro martes de 16 de mayo a 27 de junio
URL:https://prosperitylab.org/plb/event/arranca-tu-negocio-tu-puedes-lograrlo/
LOCATION:Prosperity Lab\, 2150 N First Street\, San Jose\, 95131
ATTACH;FMTTYPE=image/png:https://prosperitylab.org/plb/wp-content/uploads/2023/05/ARRANCA-TU-NEGOCIO-CON-CONFIANZA-2.png
END:VEVENT
BEGIN:VEVENT
DTSTART;TZID=America/Los_Angeles:20230518T190000
DTEND;TZID=America/Los_Angeles:20230518T203000
DTSTAMP:20260422T051641
CREATED:20230518T204331Z
LAST-MODIFIED:20230518T204331Z
UID:1834-1684436400-1684441800@prosperitylab.org
SUMMARY:Clean\, Safe and Informed- Taller para Negocios
DESCRIPTION:Taller con el abogado Servando Sandoval y Alum Rock Santa Clara Street Business Association \nEste taller informativo le ayudara a: \n\nEntender su contrato de arrendamiento\nLos Elementos basico de un contrato de arrendamiento\nAreas mas desafiantes para las pequenas empresas\nconsejos para evitar errores costosos al firmar un contrato de arrendamiento\n\nSede: Mar Y Sol Restaurant 1179 E Santa Clara Street – San Jose\, CA 95116 \n 
URL:https://prosperitylab.org/plb/event/clean-safe-and-informed-taller-para-negocios/
LOCATION:Mar y Sol restaurant\, 1179 E Santa Clara Street\, San Jose\, CA\, 95116
ATTACH;FMTTYPE=image/png:https://prosperitylab.org/plb/wp-content/uploads/2023/05/Untitled-design.png
END:VEVENT
BEGIN:VEVENT
DTSTART;TZID=America/Los_Angeles:20230521T130000
DTEND;TZID=America/Los_Angeles:20230521T150000
DTSTAMP:20260422T051641
CREATED:20230511T151047Z
LAST-MODIFIED:20230511T151047Z
UID:1828-1684674000-1684681200@prosperitylab.org
SUMMARY:Fridita Paint Party with Nacho Moya
DESCRIPTION:Milpitas residents and business owners are invited to an intimate Paint Party with Local Artis Nacho Moya. \nPlease email teamcommunitymilpitas@gmail.com with your name\, email\, cell and your Milpitas Address. \nLocation and entrance ticket will be sent to eligible participants. \n  \nThis community building event is brought by the Health Trust
URL:https://prosperitylab.org/plb/event/fridita-paint-party-with-nacho-moya/
LOCATION:CA
ATTACH;FMTTYPE=image/png:https://prosperitylab.org/plb/wp-content/uploads/2023/05/image0.png
END:VEVENT
BEGIN:VEVENT
DTSTART;TZID=America/Los_Angeles:20230523T180000
DTEND;TZID=America/Los_Angeles:20230523T200000
DTSTAMP:20260422T051641
CREATED:20230510T035621Z
LAST-MODIFIED:20230510T035621Z
UID:1785-1684864800-1684872000@prosperitylab.org
SUMMARY:Arranca tu Negocio ¡tu puedes LOGRARLO!
DESCRIPTION:ARRANCA TU NEGOCIO es una gran experiencia personal y profesional. Si estas en etapa de abrir tu negocio debes participar en estos cursos. \nARRANCAR TU NEGOCIO implica muchos retos y aventuras\, es por esto que desarrollamos una serie de talleres que te ayudaran  a dar el primer paso para Arrancar tu negocio de manera correcta y con bases solidas para que tu negocio sea rentable y exitoso.\nEstos cursos estan brindados por Prosperity Lab con apoyo de SBA\, las oficinade desarrollo economico y de asuntos inmigrantes de la ciudad de San Jose y nuestro huesped la oficina del consul General de Mexico En San Jose. Esta serie de 6 talleres GRATUITOS\, impartidos por expertos en diferentes áreas de negocio que te daran las herramientas serán tu guía y te llevaran de la mano en este proceso\n“Arranca tu negocio”\nSeis talleres GRATUITOS\nImpartidos cada martes por seis semanas\n6:00 – 8:00 p.m.\nCuatro martes de 16 de mayo a 27 de junio\nIdioma: Español \n6 TALLERES\nPasos para iniciar tu negocio\nFinanzas para Negocios\nMarketing / E-commerce / Redes Sociales\nPermisos y Responsabilidades\nPlaneacion\nFormacion Legal\nEstos cursos seran suplementado con recursos gratuitos y te guiaremos paso a paso para lanzar tu proyecto.
URL:https://prosperitylab.org/plb/event/arranca-tu-negocio-tu-puedes-lograrlo-2/
LOCATION:Consulado General de Mexico en San Jose\, 302 Enzo Drive\, San Jose\, CA\, 95138\, United States
ATTACH;FMTTYPE=image/png:https://prosperitylab.org/plb/wp-content/uploads/2023/05/ARRANCA-TU-NEGOCIO-CON-CONFIANZA-2.png
END:VEVENT
BEGIN:VEVENT
DTSTART;VALUE=DATE:20230529
DTEND;VALUE=DATE:20230530
DTSTAMP:20260422T051641
CREATED:20230510T195758Z
LAST-MODIFIED:20230510T210430Z
UID:1815-1685318400-1685404799@prosperitylab.org
SUMMARY:Memorial Day
DESCRIPTION:
URL:https://prosperitylab.org/plb/event/memorial-day/
LOCATION:CA
ATTACH;FMTTYPE=image/png:https://prosperitylab.org/plb/wp-content/uploads/2023/05/MEMORIALDAY-SQ.png
END:VEVENT
BEGIN:VEVENT
DTSTART;TZID=America/Los_Angeles:20230530T180000
DTEND;TZID=America/Los_Angeles:20230530T200000
DTSTAMP:20260422T051641
CREATED:20230510T035714Z
LAST-MODIFIED:20230510T035714Z
UID:1787-1685469600-1685476800@prosperitylab.org
SUMMARY:Arranca tu Negocio ¡tu puedes LOGRARLO!
DESCRIPTION:ARRANCA TU NEGOCIO es una gran experiencia personal y profesional. Si estas en etapa de abrir tu negocio debes participar en estos cursos. \nARRANCAR TU NEGOCIO implica muchos retos y aventuras\, es por esto que desarrollamos una serie de talleres que te ayudaran  a dar el primer paso para Arrancar tu negocio de manera correcta y con bases solidas para que tu negocio sea rentable y exitoso.\nEstos cursos estan brindados por Prosperity Lab con apoyo de SBA\, las oficinade desarrollo economico y de asuntos inmigrantes de la ciudad de San Jose y nuestro huesped la oficina del consul General de Mexico En San Jose. Esta serie de 6 talleres GRATUITOS\, impartidos por expertos en diferentes áreas de negocio que te daran las herramientas serán tu guía y te llevaran de la mano en este proceso\n“Arranca tu negocio”\nSeis talleres GRATUITOS\nImpartidos cada martes por seis semanas\n6:00 – 8:00 p.m.\nCuatro martes de 16 de mayo a 27 de junio\nIdioma: Español \n6 TALLERES\nPasos para iniciar tu negocio\nFinanzas para Negocios\nMarketing / E-commerce / Redes Sociales\nPermisos y Responsabilidades\nPlaneacion\nFormacion Legal\nEstos cursos seran suplementado con recursos gratuitos y te guiaremos paso a paso para lanzar tu proyecto.
URL:https://prosperitylab.org/plb/event/arranca-tu-negocio-tu-puedes-lograrlo-3/
LOCATION:Consulado General de Mexico en San Jose\, 302 Enzo Drive\, San Jose\, CA\, 95138\, United States
ATTACH;FMTTYPE=image/png:https://prosperitylab.org/plb/wp-content/uploads/2023/05/ARRANCA-TU-NEGOCIO-CON-CONFIANZA-2.png
END:VEVENT
END:VCALENDAR