BEGIN:VCALENDAR
VERSION:2.0
PRODID:-//ProsperityLab - ECPv6.15.11//NONSGML v1.0//EN
CALSCALE:GREGORIAN
METHOD:PUBLISH
X-ORIGINAL-URL:https://prosperitylab.org/plb
X-WR-CALDESC:Events for ProsperityLab
REFRESH-INTERVAL;VALUE=DURATION:PT1H
X-Robots-Tag:noindex
X-PUBLISHED-TTL:PT1H
BEGIN:VTIMEZONE
TZID:America/Los_Angeles
BEGIN:DAYLIGHT
TZOFFSETFROM:-0800
TZOFFSETTO:-0700
TZNAME:PDT
DTSTART:20250309T100000
END:DAYLIGHT
BEGIN:STANDARD
TZOFFSETFROM:-0700
TZOFFSETTO:-0800
TZNAME:PST
DTSTART:20251102T090000
END:STANDARD
BEGIN:DAYLIGHT
TZOFFSETFROM:-0800
TZOFFSETTO:-0700
TZNAME:PDT
DTSTART:20260308T100000
END:DAYLIGHT
BEGIN:STANDARD
TZOFFSETFROM:-0700
TZOFFSETTO:-0800
TZNAME:PST
DTSTART:20261101T090000
END:STANDARD
BEGIN:DAYLIGHT
TZOFFSETFROM:-0800
TZOFFSETTO:-0700
TZNAME:PDT
DTSTART:20270314T100000
END:DAYLIGHT
BEGIN:STANDARD
TZOFFSETFROM:-0700
TZOFFSETTO:-0800
TZNAME:PST
DTSTART:20271107T090000
END:STANDARD
END:VTIMEZONE
BEGIN:VEVENT
DTSTART;TZID=America/Los_Angeles:20260512T180000
DTEND;TZID=America/Los_Angeles:20260512T200000
DTSTAMP:20260425T205056
CREATED:20260415T232310Z
LAST-MODIFIED:20260415T232310Z
UID:4662-1778608800-1778616000@prosperitylab.org
SUMMARY:Conceptos Basicos De computacion
DESCRIPTION:Únete al curso semanal de habilidades informáticas básicas del Laboratorio de Equidad Digital. \n\n\nImpulsa tu carrera profesional: Mejora tu currículum o tus herramientas de trabajo. \n\n\nSube de nivel: Obtén la elegibilidad para nuestro curso intermedio. \n\n\nInscríbete hoy mismo y comienza tu viaje digital.
URL:https://prosperitylab.org/plb/event/conceptos-basicos-de-computacion-3/
LOCATION:CA
ATTACH;FMTTYPE=image/jpeg:https://prosperitylab.org/plb/wp-content/uploads/2026/04/2026-0512-SJ-cpp.jpg
END:VEVENT
BEGIN:VEVENT
DTSTART;TZID=America/Los_Angeles:20260513T180000
DTEND;TZID=America/Los_Angeles:20260513T203000
DTSTAMP:20260425T205056
CREATED:20260424T184926Z
LAST-MODIFIED:20260424T184926Z
UID:4679-1778695200-1778704200@prosperitylab.org
SUMMARY:Pacific Horizons Mixer & AI 2.0 Workshop
DESCRIPTION:May is AAPI Heritage Month — and we’re celebrating above the skyline. \nPacific Horizons brings together business\, civic\, and community leaders for a night of elevated networking and practical innovation — in honor of the people shaping Silicon Valley’s future. \nThis year\, we’re going further. Join us for a hands-on AI 2.0 Workshop\, and back by popular demand\, entrepreneur and speaker Tony Lam.  In this workshop we will help you get up and running with Poke — an AI agent that manages your inbox\, tracks your calendar\, and drafts email responses in your voice before anything goes out. But there will also be a dive into other AI platforms and their usages.  No tech background required. Just bring your phone fully charged. \nWhat’s Included: \n\nSkyline views + elevated ambiance at the Rotary Summit Center\nHands-on AI 2.0 Workshop with entrepreneur Tony Lam\nWalk away with Poke installed and working on your device\nHigh-impact networking with members\, partners\, and community leaders\nA room full of people who are actually moving things forward\n\nAgenda: \n\n6:00 PM – Registration & Networking\n6:15 PM – Welcome\n6:25 PM – AI 2.0 Workshop with Tony Lam\n7:15 PM – Q&A\n7:30 PM – Mixer\n8:30 PM – Event Conclusion
URL:https://prosperitylab.org/plb/event/pacific-horizons-mixer-ai-2-0-workshop/
LOCATION:Scott’s Social Club\, -88 So. 4th St.\, 7th Floor\, San Jose\, CA\, 95112
ATTACH;FMTTYPE=image/jpeg:https://prosperitylab.org/plb/wp-content/uploads/2026/04/2026-0513-scotts.jpg
END:VEVENT
END:VCALENDAR