BEGIN:VCALENDAR
VERSION:2.0
PRODID:-//ProsperityLab - ECPv6.15.11//NONSGML v1.0//EN
CALSCALE:GREGORIAN
METHOD:PUBLISH
X-WR-CALNAME:ProsperityLab
X-ORIGINAL-URL:https://prosperitylab.org/plb
X-WR-CALDESC:Events for ProsperityLab
REFRESH-INTERVAL;VALUE=DURATION:PT1H
X-Robots-Tag:noindex
X-PUBLISHED-TTL:PT1H
BEGIN:VTIMEZONE
TZID:America/Los_Angeles
BEGIN:DAYLIGHT
TZOFFSETFROM:-0800
TZOFFSETTO:-0700
TZNAME:PDT
DTSTART:20250309T100000
END:DAYLIGHT
BEGIN:STANDARD
TZOFFSETFROM:-0700
TZOFFSETTO:-0800
TZNAME:PST
DTSTART:20251102T090000
END:STANDARD
BEGIN:DAYLIGHT
TZOFFSETFROM:-0800
TZOFFSETTO:-0700
TZNAME:PDT
DTSTART:20260308T100000
END:DAYLIGHT
BEGIN:STANDARD
TZOFFSETFROM:-0700
TZOFFSETTO:-0800
TZNAME:PST
DTSTART:20261101T090000
END:STANDARD
BEGIN:DAYLIGHT
TZOFFSETFROM:-0800
TZOFFSETTO:-0700
TZNAME:PDT
DTSTART:20270314T100000
END:DAYLIGHT
BEGIN:STANDARD
TZOFFSETFROM:-0700
TZOFFSETTO:-0800
TZNAME:PST
DTSTART:20271107T090000
END:STANDARD
END:VTIMEZONE
BEGIN:VEVENT
DTSTART;TZID=America/Los_Angeles:20260428T140000
DTEND;TZID=America/Los_Angeles:20260428T160000
DTSTAMP:20260424T025239
CREATED:20260424T032600Z
LAST-MODIFIED:20260424T032600Z
UID:4676-1777384800-1777392000@prosperitylab.org
SUMMARY:Sprout to Harvest Accelerator
DESCRIPTION:Your business is growing—now it’s time to scale.\nWe are inviting a select group of Incubees to an intensive accelerator focused on operational excellence and revenue growth. This is your path to move from the Sprout to the Harvest level.\n\n\nHybrid Learning: Flexible In-Person + Online sessions.\nExpert Support: Personalized 1-on-1 Mentoring.\nStrategic Tools: Advanced Sales & Marketing resources.\nLeadership: Management Certification (The Human Factor).\nLanguage: Spanish-English bilingual format
URL:https://prosperitylab.org/plb/event/sprout-to-harvest-accelerator/
LOCATION:Prosperity Lab @ 301NJ\, 301 No Jackson Ave 2B\, San Jose\, CA\, 95133
ATTACH;FMTTYPE=image/jpeg:https://prosperitylab.org/plb/wp-content/uploads/2026/04/2026-MR-accelerator-Instagram-Post-45.jpg
END:VEVENT
BEGIN:VEVENT
DTSTART;TZID=America/Los_Angeles:20260428T160000
DTEND;TZID=America/Los_Angeles:20260428T180000
DTSTAMP:20260424T025239
CREATED:20260416T221907Z
LAST-MODIFIED:20260416T221907Z
UID:4666-1777392000-1777399200@prosperitylab.org
SUMMARY:Sprout to Harvest Accelerator Kick Off
DESCRIPTION:By Invitation for Mesa Redonda Incubees: \n\n\n\nYour business is growing—let’s make sure it scales. We’re inviting select Incubees to join an intensive masterclass focused on operational excellence and revenue growth. \n\n\n\n\nProgram Highlights: \n\n\nHybrid Learning: In-person + Online\nExpert Support: 1-on-1 Mentoring\nDuration: Four Weeks- Bi-weekly\nSales and Marketing tools\nHuman Factor- Management certification\nGoal: Move from Sprout to Harvest level.
URL:https://prosperitylab.org/plb/event/sprout-to-harvest-accelerator-kick-off/
LOCATION:Prosperity Lab @ 301NJ\, 301 No Jackson Ave 2B\, San Jose\, CA\, 95133
ATTACH;FMTTYPE=image/png:https://prosperitylab.org/plb/wp-content/uploads/2026/04/2026-MR-accelerator-Instagram-Post-45.png
END:VEVENT
BEGIN:VEVENT
DTSTART;TZID=America/Los_Angeles:20260430T180000
DTEND;TZID=America/Los_Angeles:20260430T200000
DTSTAMP:20260424T025239
CREATED:20260424T032231Z
LAST-MODIFIED:20260424T032231Z
UID:4673-1777572000-1777579200@prosperitylab.org
SUMMARY:Computación\, Paso a Paso
DESCRIPTION:Cierra la brecha digital!\nÚnete al curso semanal de habilidades informáticas básicas del Laboratorio de Equidad Digital.\nDesarrolla tu confianza: Domina los aspectos esenciales de la era digital. \nImpulsa tu carrera profesional: Mejora tu currículum o tus herramientas de trabajo.\nSube de nivel: Obtén la elegibilidad para nuestro curso intermedio.\nInscríbete hoy mismo y comienza tu viaje digital. \n\n\nEsta capacitación práctica se llevará a cabo a lo largo de 5 sesiones semanales\, comenzando el  jueves 30 de abril de 6:00 a 8:00 p. m.
URL:https://prosperitylab.org/plb/event/computacion-paso-a-paso-42/
LOCATION:FACE Centro Familiar y comunitario\, 80 W Central Ave\, Morgan Hill\, CA\, 95037\, United States
ATTACH;FMTTYPE=image/jpeg:https://prosperitylab.org/plb/wp-content/uploads/2026/04/2026-0430-CPPMH.jpg
END:VEVENT
BEGIN:VEVENT
DTSTART;TZID=America/Los_Angeles:20260512T180000
DTEND;TZID=America/Los_Angeles:20260512T200000
DTSTAMP:20260424T025239
CREATED:20260415T232310Z
LAST-MODIFIED:20260415T232310Z
UID:4662-1778608800-1778616000@prosperitylab.org
SUMMARY:Conceptos Basicos De computacion
DESCRIPTION:Únete al curso semanal de habilidades informáticas básicas del Laboratorio de Equidad Digital. \n\n\nImpulsa tu carrera profesional: Mejora tu currículum o tus herramientas de trabajo. \n\n\nSube de nivel: Obtén la elegibilidad para nuestro curso intermedio. \n\n\nInscríbete hoy mismo y comienza tu viaje digital.
URL:https://prosperitylab.org/plb/event/conceptos-basicos-de-computacion-3/
LOCATION:CA
ATTACH;FMTTYPE=image/jpeg:https://prosperitylab.org/plb/wp-content/uploads/2026/04/2026-0512-SJ-cpp.jpg
END:VEVENT
END:VCALENDAR