BEGIN:VCALENDAR
VERSION:2.0
PRODID:-//ProsperityLab - ECPv6.15.11//NONSGML v1.0//EN
CALSCALE:GREGORIAN
METHOD:PUBLISH
X-WR-CALNAME:ProsperityLab
X-ORIGINAL-URL:https://prosperitylab.org/plb
X-WR-CALDESC:Events for ProsperityLab
REFRESH-INTERVAL;VALUE=DURATION:PT1H
X-Robots-Tag:noindex
X-PUBLISHED-TTL:PT1H
BEGIN:VTIMEZONE
TZID:America/Los_Angeles
BEGIN:DAYLIGHT
TZOFFSETFROM:-0800
TZOFFSETTO:-0700
TZNAME:PDT
DTSTART:20230312T100000
END:DAYLIGHT
BEGIN:STANDARD
TZOFFSETFROM:-0700
TZOFFSETTO:-0800
TZNAME:PST
DTSTART:20231105T090000
END:STANDARD
BEGIN:DAYLIGHT
TZOFFSETFROM:-0800
TZOFFSETTO:-0700
TZNAME:PDT
DTSTART:20240310T100000
END:DAYLIGHT
BEGIN:STANDARD
TZOFFSETFROM:-0700
TZOFFSETTO:-0800
TZNAME:PST
DTSTART:20241103T090000
END:STANDARD
BEGIN:DAYLIGHT
TZOFFSETFROM:-0800
TZOFFSETTO:-0700
TZNAME:PDT
DTSTART:20250309T100000
END:DAYLIGHT
BEGIN:STANDARD
TZOFFSETFROM:-0700
TZOFFSETTO:-0800
TZNAME:PST
DTSTART:20251102T090000
END:STANDARD
END:VTIMEZONE
BEGIN:VEVENT
DTSTART;VALUE=DATE:20240510
DTEND;VALUE=DATE:20240513
DTSTAMP:20260421T025326
CREATED:20240510T231829Z
LAST-MODIFIED:20240510T231829Z
UID:3037-1715299200-1715558399@prosperitylab.org
SUMMARY:Mother's Day - Día de las Madres
DESCRIPTION:
URL:https://prosperitylab.org/plb/event/mothers-day-dia-de-las-madres/
LOCATION:CA
ATTACH;FMTTYPE=image/jpeg:https://prosperitylab.org/plb/wp-content/uploads/2024/05/2024-MD.jpg
END:VEVENT
BEGIN:VEVENT
DTSTART;TZID=America/Los_Angeles:20240511T090000
DTEND;TZID=America/Los_Angeles:20240511T110000
DTSTAMP:20260421T025326
CREATED:20240401T192309Z
LAST-MODIFIED:20240401T192309Z
UID:2707-1715418000-1715425200@prosperitylab.org
SUMMARY:Computación\, Próximos Pasos
DESCRIPTION:
URL:https://prosperitylab.org/plb/event/computacion-proximos-pasos-3/
LOCATION:Work2Future Career Center\, 1608 Las Plumas Ave\, San Jose\, CA\, 95133\, United States
ATTACH;FMTTYPE=image/jpeg:https://prosperitylab.org/plb/wp-content/uploads/2024/04/0427-CPP-ESG.jpg
END:VEVENT
END:VCALENDAR