BEGIN:VCALENDAR
VERSION:2.0
PRODID:-//ProsperityLab - ECPv6.15.11//NONSGML v1.0//EN
CALSCALE:GREGORIAN
METHOD:PUBLISH
X-ORIGINAL-URL:https://prosperitylab.org/plb
X-WR-CALDESC:Events for ProsperityLab
REFRESH-INTERVAL;VALUE=DURATION:PT1H
X-Robots-Tag:noindex
X-PUBLISHED-TTL:PT1H
BEGIN:VTIMEZONE
TZID:America/Los_Angeles
BEGIN:DAYLIGHT
TZOFFSETFROM:-0800
TZOFFSETTO:-0700
TZNAME:PDT
DTSTART:20220313T100000
END:DAYLIGHT
BEGIN:STANDARD
TZOFFSETFROM:-0700
TZOFFSETTO:-0800
TZNAME:PST
DTSTART:20221106T090000
END:STANDARD
BEGIN:DAYLIGHT
TZOFFSETFROM:-0800
TZOFFSETTO:-0700
TZNAME:PDT
DTSTART:20230312T100000
END:DAYLIGHT
BEGIN:STANDARD
TZOFFSETFROM:-0700
TZOFFSETTO:-0800
TZNAME:PST
DTSTART:20231105T090000
END:STANDARD
BEGIN:DAYLIGHT
TZOFFSETFROM:-0800
TZOFFSETTO:-0700
TZNAME:PDT
DTSTART:20240310T100000
END:DAYLIGHT
BEGIN:STANDARD
TZOFFSETFROM:-0700
TZOFFSETTO:-0800
TZNAME:PST
DTSTART:20241103T090000
END:STANDARD
END:VTIMEZONE
BEGIN:VEVENT
DTSTART;TZID=America/Los_Angeles:20231116T100000
DTEND;TZID=America/Los_Angeles:20231116T140000
DTSTAMP:20260419T175401
CREATED:20231026T003947Z
LAST-MODIFIED:20231026T003947Z
UID:2041-1700128800-1700143200@prosperitylab.org
SUMMARY:Exploring Entrepreneurship
DESCRIPTION:Ready to kickstart your entrepreneurial dreams? Join us this November during National Entrepreneurship Month for “Exploring Entrepreneurship”\, a free event at San Jose City Hall!\n\n\nRegister here: bit.ly/ThursdayNov16\n\n\nGet ready to be inspired by local business owners as they share their remarkable entrepreneurial journeys. Discover the 10 essential steps to launch your business at our resource stations\, guided by industry experts.\n\n\nConnect with like-minded entrepreneurs and be part of the celebration as we honor the City’s Business of the Year award recipients.\n\n\nLunch will be provided. Live interpretation in Spanish\, Vietnamese\, or Chinese is available upon request. Just say ‘yes’ when you register!\n\n\nDon’t miss out on this fantastic opportunity to take your first step towards entrepreneurship. See you there!
URL:https://prosperitylab.org/plb/event/exploring-entrepreneurship/
LOCATION:San Jose City Hall\, 200 E Santa Clara Street\, San Jose\, CA\, 95131\, United States
ATTACH;FMTTYPE=image/jpeg:https://prosperitylab.org/plb/wp-content/uploads/2023/10/FB_IMG_1698108235460.jpg
END:VEVENT
BEGIN:VEVENT
DTSTART;TZID=America/Los_Angeles:20231116T170000
DTEND;TZID=America/Los_Angeles:20231116T200000
DTSTAMP:20260419T175401
CREATED:20231113T202746Z
LAST-MODIFIED:20231113T202746Z
UID:2067-1700154000-1700164800@prosperitylab.org
SUMMARY:ICA Fund Community Showcase: Culture + Capital
DESCRIPTION:Join us at Adobe’s San Francisco office for the ICA Fund Community Showcase: \nCulture + Capital\, a celebration of unlocking the power of culture through capital. ICA Fund is an impact investor advancing small businesses that are leading the charge in cultural innovation\, creating thriving cities and shaping communities. \nAt ICA’s annual Community Showcase\, attendees from across the Bay Area small business ecosystem\, \nincluding founders\, investors\, and community developers\, convene for an evening of connection building. Attendees can sample products from 20+ culture-shaping small businesses and hear stories from founders during our presented program. \n Appetizers will be served from ICA Fund alumni. Adobe will be providing drinks. \nWe can’t wait to celebrate with you! While this event is completely free to attend\, you can help fuel ICA Fund’s work investing in diverse entrepreneurship with an optional donation in lieu of ticket purchase. \nAdobe San Francisco Office – 601 Townsend Street – San Francisco\, CA 94103 \nClick here for recommended nearby parking. \nNote: APEC is expected to cause unusually high levels of traffic in the city. Please plan accordingly.
URL:https://prosperitylab.org/plb/event/ica-fund-community-showcase-culture-capital/
LOCATION:Adobe San Francisco Office\, 601 Townsend Street\, San Francisco\, CA\, 94103\, United States
END:VEVENT
END:VCALENDAR