BEGIN:VCALENDAR
VERSION:2.0
PRODID:-//ProsperityLab - ECPv6.15.11//NONSGML v1.0//EN
CALSCALE:GREGORIAN
METHOD:PUBLISH
X-WR-CALNAME:ProsperityLab
X-ORIGINAL-URL:https://prosperitylab.org/plb
X-WR-CALDESC:Events for ProsperityLab
REFRESH-INTERVAL;VALUE=DURATION:PT1H
X-Robots-Tag:noindex
X-PUBLISHED-TTL:PT1H
BEGIN:VTIMEZONE
TZID:America/Los_Angeles
BEGIN:DAYLIGHT
TZOFFSETFROM:-0800
TZOFFSETTO:-0700
TZNAME:PDT
DTSTART:20220313T100000
END:DAYLIGHT
BEGIN:STANDARD
TZOFFSETFROM:-0700
TZOFFSETTO:-0800
TZNAME:PST
DTSTART:20221106T090000
END:STANDARD
BEGIN:DAYLIGHT
TZOFFSETFROM:-0800
TZOFFSETTO:-0700
TZNAME:PDT
DTSTART:20230312T100000
END:DAYLIGHT
BEGIN:STANDARD
TZOFFSETFROM:-0700
TZOFFSETTO:-0800
TZNAME:PST
DTSTART:20231105T090000
END:STANDARD
BEGIN:DAYLIGHT
TZOFFSETFROM:-0800
TZOFFSETTO:-0700
TZNAME:PDT
DTSTART:20240310T100000
END:DAYLIGHT
BEGIN:STANDARD
TZOFFSETFROM:-0700
TZOFFSETTO:-0800
TZNAME:PST
DTSTART:20241103T090000
END:STANDARD
END:VTIMEZONE
BEGIN:VEVENT
DTSTART;TZID=America/Los_Angeles:20231109T180000
DTEND;TZID=America/Los_Angeles:20231109T210000
DTSTAMP:20260422T151533
CREATED:20231003T185908Z
LAST-MODIFIED:20231003T185908Z
UID:2028-1699552800-1699563600@prosperitylab.org
SUMMARY:REALFEST 2023
DESCRIPTION:Welcome to REALFEST\, where we celebrate the resilience of our community\, the empowerment of our borrowers\, the ambition of our approach\, and the limitless possibilities that lie ahead. \nJoin community partners\, entrepreneurs\, and dreamers like yourself for an evening filled with food\, music\, drinks\, and more. This in-person event will collide inspiration and innovation as we continue to collaborate for a brighter future. \nWant to bring your friends? Join the Host Committee! Contact omar@tmccommunitycapital.org for details. \nIf you’re interested in sponsoring the event or setting up a vendor booth\, please click HERE for more information.
URL:https://prosperitylab.org/plb/event/realfest-2023/
LOCATION:BLOC15\, 252 2ND STREET\, Oakland\, CA\, 94607
ATTACH;FMTTYPE=image/jpeg:https://prosperitylab.org/plb/wp-content/uploads/2023/10/realfest-2023.jpeg
END:VEVENT
END:VCALENDAR