BEGIN:VCALENDAR
VERSION:2.0
PRODID:-//ProsperityLab - ECPv6.15.11//NONSGML v1.0//EN
CALSCALE:GREGORIAN
METHOD:PUBLISH
X-WR-CALNAME:ProsperityLab
X-ORIGINAL-URL:https://prosperitylab.org/plb
X-WR-CALDESC:Events for ProsperityLab
REFRESH-INTERVAL;VALUE=DURATION:PT1H
X-Robots-Tag:noindex
X-PUBLISHED-TTL:PT1H
BEGIN:VTIMEZONE
TZID:America/Los_Angeles
BEGIN:DAYLIGHT
TZOFFSETFROM:-0800
TZOFFSETTO:-0700
TZNAME:PDT
DTSTART:20220313T100000
END:DAYLIGHT
BEGIN:STANDARD
TZOFFSETFROM:-0700
TZOFFSETTO:-0800
TZNAME:PST
DTSTART:20221106T090000
END:STANDARD
BEGIN:DAYLIGHT
TZOFFSETFROM:-0800
TZOFFSETTO:-0700
TZNAME:PDT
DTSTART:20230312T100000
END:DAYLIGHT
BEGIN:STANDARD
TZOFFSETFROM:-0700
TZOFFSETTO:-0800
TZNAME:PST
DTSTART:20231105T090000
END:STANDARD
BEGIN:DAYLIGHT
TZOFFSETFROM:-0800
TZOFFSETTO:-0700
TZNAME:PDT
DTSTART:20240310T100000
END:DAYLIGHT
BEGIN:STANDARD
TZOFFSETFROM:-0700
TZOFFSETTO:-0800
TZNAME:PST
DTSTART:20241103T090000
END:STANDARD
END:VTIMEZONE
BEGIN:VEVENT
DTSTART;TZID=America/Los_Angeles:20231105T110000
DTEND;TZID=America/Los_Angeles:20231105T140000
DTSTAMP:20260422T215806
CREATED:20231023T220325Z
LAST-MODIFIED:20231023T220325Z
UID:2034-1699182000-1699192800@prosperitylab.org
SUMMARY:Sisterhood Brunch 2023
DESCRIPTION:Our annual Sisterhood Brunch is our signature\, annual event that celebrates excellence in Latina leadership & civic engagement in Silicon Valley and beyond! \nRegister now and take advantage of our limited-time Early Bird pricing! Don’t wait\, secure your discounted ticket and immerse yourself in a morning of inspiration and connection that’s not to be missed!
URL:https://prosperitylab.org/plb/event/sisterhood-brunch-2023/
LOCATION:Silver Creek Valley Country Club\, 5460 Country Club Pkwy\, San Jose\, CA\, 95138\, United States
ATTACH;FMTTYPE=image/png:https://prosperitylab.org/plb/wp-content/uploads/2023/10/SisterhoodBrunch_WebsiteHeader1.png
END:VEVENT
END:VCALENDAR