BEGIN:VCALENDAR
VERSION:2.0
PRODID:-//ProsperityLab - ECPv6.15.11//NONSGML v1.0//EN
CALSCALE:GREGORIAN
METHOD:PUBLISH
X-WR-CALNAME:ProsperityLab
X-ORIGINAL-URL:https://prosperitylab.org/plb
X-WR-CALDESC:Events for ProsperityLab
REFRESH-INTERVAL;VALUE=DURATION:PT1H
X-Robots-Tag:noindex
X-PUBLISHED-TTL:PT1H
BEGIN:VTIMEZONE
TZID:America/Los_Angeles
BEGIN:DAYLIGHT
TZOFFSETFROM:-0800
TZOFFSETTO:-0700
TZNAME:PDT
DTSTART:20220313T100000
END:DAYLIGHT
BEGIN:STANDARD
TZOFFSETFROM:-0700
TZOFFSETTO:-0800
TZNAME:PST
DTSTART:20221106T090000
END:STANDARD
BEGIN:DAYLIGHT
TZOFFSETFROM:-0800
TZOFFSETTO:-0700
TZNAME:PDT
DTSTART:20230312T100000
END:DAYLIGHT
BEGIN:STANDARD
TZOFFSETFROM:-0700
TZOFFSETTO:-0800
TZNAME:PST
DTSTART:20231105T090000
END:STANDARD
BEGIN:DAYLIGHT
TZOFFSETFROM:-0800
TZOFFSETTO:-0700
TZNAME:PDT
DTSTART:20240310T100000
END:DAYLIGHT
BEGIN:STANDARD
TZOFFSETFROM:-0700
TZOFFSETTO:-0800
TZNAME:PST
DTSTART:20241103T090000
END:STANDARD
END:VTIMEZONE
BEGIN:VEVENT
DTSTART;TZID=America/Los_Angeles:20231101T150000
DTEND;TZID=America/Los_Angeles:20231101T170000
DTSTAMP:20260424T031650
CREATED:20231026T211324Z
LAST-MODIFIED:20231026T211426Z
UID:2048-1698850800-1698858000@prosperitylab.org
SUMMARY:Fall Career Fair
DESCRIPTION:Open to All: This event is inclusive and welcomes job seekers of all ages and backgrounds\nFree Admission: There’s no cost to attend\, making it accessible to everyone.\nFree Food: Provided to job fair attendees\, while supplies last.\nOn-Campus Parking: Free parking is available on-site for added convenience.\nRecruiters On-Site: Job seekers are encouraged to bring their resumes to engage with recruiters.\nLanguage Accessibility: We’re committed to inclusivity with interpreters available for Spanish\, Vietnamese\, and American Sign Language (ASL). Other languages available upon request.\nDiverse Employers: A wide array of over 50 participating employers and resource providers will be present\, offering diverse career prospects.\n\nLOOK FOR THE MAIN GYM
URL:https://prosperitylab.org/plb/event/fall-career-fair/
LOCATION:San Jose City College\, 2100 Moorpark Avenue\, San Jose\, 95128
ATTACH;FMTTYPE=image/png:https://prosperitylab.org/plb/wp-content/uploads/2023/10/FCF_23_SOCIAL-POSTS-3.png
END:VEVENT
END:VCALENDAR