BEGIN:VCALENDAR
VERSION:2.0
PRODID:-//ProsperityLab - ECPv6.15.11//NONSGML v1.0//EN
CALSCALE:GREGORIAN
METHOD:PUBLISH
X-WR-CALNAME:ProsperityLab
X-ORIGINAL-URL:https://prosperitylab.org/plb
X-WR-CALDESC:Events for ProsperityLab
REFRESH-INTERVAL;VALUE=DURATION:PT1H
X-Robots-Tag:noindex
X-PUBLISHED-TTL:PT1H
BEGIN:VTIMEZONE
TZID:America/Los_Angeles
BEGIN:DAYLIGHT
TZOFFSETFROM:-0800
TZOFFSETTO:-0700
TZNAME:PDT
DTSTART:20220313T100000
END:DAYLIGHT
BEGIN:STANDARD
TZOFFSETFROM:-0700
TZOFFSETTO:-0800
TZNAME:PST
DTSTART:20221106T090000
END:STANDARD
BEGIN:DAYLIGHT
TZOFFSETFROM:-0800
TZOFFSETTO:-0700
TZNAME:PDT
DTSTART:20230312T100000
END:DAYLIGHT
BEGIN:STANDARD
TZOFFSETFROM:-0700
TZOFFSETTO:-0800
TZNAME:PST
DTSTART:20231105T090000
END:STANDARD
BEGIN:DAYLIGHT
TZOFFSETFROM:-0800
TZOFFSETTO:-0700
TZNAME:PDT
DTSTART:20240310T100000
END:DAYLIGHT
BEGIN:STANDARD
TZOFFSETFROM:-0700
TZOFFSETTO:-0800
TZNAME:PST
DTSTART:20241103T090000
END:STANDARD
END:VTIMEZONE
BEGIN:VEVENT
DTSTART;TZID=America/Los_Angeles:20231011T100000
DTEND;TZID=America/Los_Angeles:20231011T170000
DTSTAMP:20260423T123616
CREATED:20230919T233111Z
LAST-MODIFIED:20230919T233111Z
UID:2020-1697018400-1697043600@prosperitylab.org
SUMMARY:Entrenamiento Presencial\, Quickbooks Intensivo
DESCRIPTION:La clase presencial más popular de QuickBooks! Perfecta para los nuevos usuarios \nque quieren empezar de cero o usuarios experimentados que desean reforzar su fundación\, \ny sacarle más provecho a QuickBooks. Enfoquese desde su propio computador en convertirse en un \nusuario confiado de QuickBooks y en tu Idioma. \nRECIBIRÁS: Estarás recibiendo como parte de tu Entrenamiento:\n– 12 Horas de Full Entrenamiento y Conocimiento\n– CERTIFICADO DE GRADUACIÓN\n– Manual de QuickBooks en Español\n– Soluciones a tu mayor problema con QuickBooks\n– Equipamiento enfocado en el manejo CORRECTO y EFECTIVO de QuickBooks\n– Aprenderás todo el QuickBooks desde cero “0”\n– Interactividad con el entrenador\n– Con ejemplos actuales y reales para la aplicacion de QuickBooks\n– Seccion de Preguntas y Repuestas en vivo\n– Casos de Estudio entre los asistentes\nInstructora\, Vanessa Vasquez en colaboracion con Prosperity Lab \nCosto $599.00\,
URL:https://prosperitylab.org/plb/event/entrenamiento-presencial-quickbooks-intensivo/
LOCATION:Work2Future Career Center\, 1608 Las Plumas Ave\, San Jose\, CA\, 95133\, United States
ATTACH;FMTTYPE=image/png:https://prosperitylab.org/plb/wp-content/uploads/2023/09/QB-logo.png
END:VEVENT
END:VCALENDAR