BEGIN:VCALENDAR
VERSION:2.0
PRODID:-//ProsperityLab - ECPv6.15.11//NONSGML v1.0//EN
CALSCALE:GREGORIAN
METHOD:PUBLISH
X-ORIGINAL-URL:https://prosperitylab.org/plb
X-WR-CALDESC:Events for ProsperityLab
REFRESH-INTERVAL;VALUE=DURATION:PT1H
X-Robots-Tag:noindex
X-PUBLISHED-TTL:PT1H
BEGIN:VTIMEZONE
TZID:America/Los_Angeles
BEGIN:DAYLIGHT
TZOFFSETFROM:-0800
TZOFFSETTO:-0700
TZNAME:PDT
DTSTART:20220313T100000
END:DAYLIGHT
BEGIN:STANDARD
TZOFFSETFROM:-0700
TZOFFSETTO:-0800
TZNAME:PST
DTSTART:20221106T090000
END:STANDARD
BEGIN:DAYLIGHT
TZOFFSETFROM:-0800
TZOFFSETTO:-0700
TZNAME:PDT
DTSTART:20230312T100000
END:DAYLIGHT
BEGIN:STANDARD
TZOFFSETFROM:-0700
TZOFFSETTO:-0800
TZNAME:PST
DTSTART:20231105T090000
END:STANDARD
BEGIN:DAYLIGHT
TZOFFSETFROM:-0800
TZOFFSETTO:-0700
TZNAME:PDT
DTSTART:20240310T100000
END:DAYLIGHT
BEGIN:STANDARD
TZOFFSETFROM:-0700
TZOFFSETTO:-0800
TZNAME:PST
DTSTART:20241103T090000
END:STANDARD
END:VTIMEZONE
BEGIN:VEVENT
DTSTART;TZID=America/Los_Angeles:20230926T180000
DTEND;TZID=America/Los_Angeles:20230926T193000
DTSTAMP:20260422T165617
CREATED:20230821T204436Z
LAST-MODIFIED:20230821T204436Z
UID:1964-1695751200-1695756600@prosperitylab.org
SUMMARY:Marketing and Social Media Strategies to grow your business!
DESCRIPTION:Prosperity Lab presents Rosalidia Dubon\, marketing strategist\, for a free 2 part workshop for existing businesses.  You will learn to:\n\nBuild a solid marketing plan\, identify two client avatars and craft marketing messages that resonate with them.\nUtilize different platforms to meet the clients where they are\, study the competition and not reinvent the wheel.\nCreate your client database and use it to engage clients for upsells\, and bundling items.\nBusiness advising in Marketing strategy for qualifying San Jose Businesses at no cost.\n\nThis program is sponsored by SBA\, the City of San Jose and Work2future.
URL:https://prosperitylab.org/plb/event/marketing-and-social-media-strategies-to-grow-your-business/
LOCATION:Work2Future Career Center\, 1608 Las Plumas Ave\, San Jose\, CA\, 95133\, United States
ATTACH;FMTTYPE=image/png:https://prosperitylab.org/plb/wp-content/uploads/2023/08/marketing-SM-strategy-pm-SQ.png
END:VEVENT
BEGIN:VEVENT
DTSTART;TZID=America/Los_Angeles:20230926T180000
DTEND;TZID=America/Los_Angeles:20230926T200000
DTSTAMP:20260422T165617
CREATED:20230821T190841Z
LAST-MODIFIED:20230821T190841Z
UID:1962-1695751200-1695758400@prosperitylab.org
SUMMARY:Arranca tu negocio\, 2a temporada - Digitazion de tu negocio
DESCRIPTION:
URL:https://prosperitylab.org/plb/event/arranca-tu-negocio-2a-temporada-digitazion-de-tu-negocio/
LOCATION:Work2Future Career Center\, 1608 Las Plumas Ave\, San Jose\, CA\, 95133\, United States
ATTACH;FMTTYPE=image/png:https://prosperitylab.org/plb/wp-content/uploads/2023/08/arranca-tu-negocio-II-FBLandscape-2.png
END:VEVENT
END:VCALENDAR