BEGIN:VCALENDAR
VERSION:2.0
PRODID:-//ProsperityLab - ECPv6.15.11//NONSGML v1.0//EN
CALSCALE:GREGORIAN
METHOD:PUBLISH
X-ORIGINAL-URL:https://prosperitylab.org/plb
X-WR-CALDESC:Events for ProsperityLab
REFRESH-INTERVAL;VALUE=DURATION:PT1H
X-Robots-Tag:noindex
X-PUBLISHED-TTL:PT1H
BEGIN:VTIMEZONE
TZID:America/Los_Angeles
BEGIN:DAYLIGHT
TZOFFSETFROM:-0800
TZOFFSETTO:-0700
TZNAME:PDT
DTSTART:20220313T100000
END:DAYLIGHT
BEGIN:STANDARD
TZOFFSETFROM:-0700
TZOFFSETTO:-0800
TZNAME:PST
DTSTART:20221106T090000
END:STANDARD
BEGIN:DAYLIGHT
TZOFFSETFROM:-0800
TZOFFSETTO:-0700
TZNAME:PDT
DTSTART:20230312T100000
END:DAYLIGHT
BEGIN:STANDARD
TZOFFSETFROM:-0700
TZOFFSETTO:-0800
TZNAME:PST
DTSTART:20231105T090000
END:STANDARD
BEGIN:DAYLIGHT
TZOFFSETFROM:-0800
TZOFFSETTO:-0700
TZNAME:PDT
DTSTART:20240310T100000
END:DAYLIGHT
BEGIN:STANDARD
TZOFFSETFROM:-0700
TZOFFSETTO:-0800
TZNAME:PST
DTSTART:20241103T090000
END:STANDARD
END:VTIMEZONE
BEGIN:VEVENT
DTSTART;VALUE=DATE:20230905
DTEND;VALUE=DATE:20230906
DTSTAMP:20260422T184201
CREATED:20230821T205948Z
LAST-MODIFIED:20230821T205948Z
UID:1977-1693872000-1693958399@prosperitylab.org
SUMMARY:Labor Day
DESCRIPTION:Labor Day
URL:https://prosperitylab.org/plb/event/labor-day-2/
LOCATION:CA
ATTACH;FMTTYPE=image/png:https://prosperitylab.org/plb/wp-content/uploads/2023/08/laborday.png
END:VEVENT
BEGIN:VEVENT
DTSTART;TZID=America/Los_Angeles:20230905T180000
DTEND;TZID=America/Los_Angeles:20230905T200000
DTSTAMP:20260422T184201
CREATED:20230821T190528Z
LAST-MODIFIED:20230821T190528Z
UID:1956-1693936800-1693944000@prosperitylab.org
SUMMARY:Arranca tu negocio\, 2a temporada - Marketing\,eCommerce Redes Sociales
DESCRIPTION:
URL:https://prosperitylab.org/plb/event/arranca-tu-negocio-2a-temporada-marketingecommerce-redes-sociales/
LOCATION:Work2Future Career Center\, 1608 Las Plumas Ave\, San Jose\, CA\, 95133\, United States
ATTACH;FMTTYPE=image/png:https://prosperitylab.org/plb/wp-content/uploads/2023/08/arranca-tu-negocio-II-FBLandscape-2.png
END:VEVENT
END:VCALENDAR