BEGIN:VCALENDAR
VERSION:2.0
PRODID:-//ProsperityLab - ECPv6.15.11//NONSGML v1.0//EN
CALSCALE:GREGORIAN
METHOD:PUBLISH
X-ORIGINAL-URL:https://prosperitylab.org/plb
X-WR-CALDESC:Events for ProsperityLab
REFRESH-INTERVAL;VALUE=DURATION:PT1H
X-Robots-Tag:noindex
X-PUBLISHED-TTL:PT1H
BEGIN:VTIMEZONE
TZID:America/Los_Angeles
BEGIN:DAYLIGHT
TZOFFSETFROM:-0800
TZOFFSETTO:-0700
TZNAME:PDT
DTSTART:20220313T100000
END:DAYLIGHT
BEGIN:STANDARD
TZOFFSETFROM:-0700
TZOFFSETTO:-0800
TZNAME:PST
DTSTART:20221106T090000
END:STANDARD
BEGIN:DAYLIGHT
TZOFFSETFROM:-0800
TZOFFSETTO:-0700
TZNAME:PDT
DTSTART:20230312T100000
END:DAYLIGHT
BEGIN:STANDARD
TZOFFSETFROM:-0700
TZOFFSETTO:-0800
TZNAME:PST
DTSTART:20231105T090000
END:STANDARD
BEGIN:DAYLIGHT
TZOFFSETFROM:-0800
TZOFFSETTO:-0700
TZNAME:PDT
DTSTART:20240310T100000
END:DAYLIGHT
BEGIN:STANDARD
TZOFFSETFROM:-0700
TZOFFSETTO:-0800
TZNAME:PST
DTSTART:20241103T090000
END:STANDARD
END:VTIMEZONE
BEGIN:VEVENT
DTSTART;TZID=America/Los_Angeles:20230826T090000
DTEND;TZID=America/Los_Angeles:20230826T130000
DTSTAMP:20260422T115558
CREATED:20230821T204929Z
LAST-MODIFIED:20230821T204929Z
UID:1975-1693040400-1693054800@prosperitylab.org
SUMMARY:Computacion\, paso a paso
DESCRIPTION:Cursos de Informática\nEste curso está diseñado para propietarios de negocios que deseen aprender conocimientos básicos de informática. \nComprender los conceptos básicos\nConectate con email+ herramientas de aprendizaje\nProcesadores\, funciones\, Scaneo y impresion\nAplicaciones para operar su negocio\nSeguridad Cybernetica\n+Laboratorio de computación
URL:https://prosperitylab.org/plb/event/computacion-paso-a-paso-21/
LOCATION:Work2Future Career Center\, 1608 Las Plumas Ave\, San Jose\, CA\, 95133\, United States
ATTACH;FMTTYPE=image/jpeg:https://prosperitylab.org/plb/wp-content/uploads/2023/07/Digital-equity-lab-FINAL_full-color.jpg
END:VEVENT
END:VCALENDAR