BEGIN:VCALENDAR
VERSION:2.0
PRODID:-//ProsperityLab - ECPv6.15.11//NONSGML v1.0//EN
CALSCALE:GREGORIAN
METHOD:PUBLISH
X-WR-CALNAME:ProsperityLab
X-ORIGINAL-URL:https://prosperitylab.org/plb
X-WR-CALDESC:Events for ProsperityLab
REFRESH-INTERVAL;VALUE=DURATION:PT1H
X-Robots-Tag:noindex
X-PUBLISHED-TTL:PT1H
BEGIN:VTIMEZONE
TZID:America/Los_Angeles
BEGIN:DAYLIGHT
TZOFFSETFROM:-0800
TZOFFSETTO:-0700
TZNAME:PDT
DTSTART:20220313T100000
END:DAYLIGHT
BEGIN:STANDARD
TZOFFSETFROM:-0700
TZOFFSETTO:-0800
TZNAME:PST
DTSTART:20221106T090000
END:STANDARD
BEGIN:DAYLIGHT
TZOFFSETFROM:-0800
TZOFFSETTO:-0700
TZNAME:PDT
DTSTART:20230312T100000
END:DAYLIGHT
BEGIN:STANDARD
TZOFFSETFROM:-0700
TZOFFSETTO:-0800
TZNAME:PST
DTSTART:20231105T090000
END:STANDARD
BEGIN:DAYLIGHT
TZOFFSETFROM:-0800
TZOFFSETTO:-0700
TZNAME:PDT
DTSTART:20240310T100000
END:DAYLIGHT
BEGIN:STANDARD
TZOFFSETFROM:-0700
TZOFFSETTO:-0800
TZNAME:PST
DTSTART:20241103T090000
END:STANDARD
END:VTIMEZONE
BEGIN:VEVENT
DTSTART;TZID=America/Los_Angeles:20230731T140000
DTEND;TZID=America/Los_Angeles:20230731T170000
DTSTAMP:20260422T102921
CREATED:20230726T180915Z
LAST-MODIFIED:20230726T180915Z
UID:1933-1690812000-1690822800@prosperitylab.org
SUMMARY:Street Vendors & Micro Business Resource Fair & Workshops
DESCRIPTION:Are you a street Vendor in the city of San Jose? You are invited to attend this free Resource Fair. Learn about programs and resources to help you open and grow your street Vendor business.\nMake sure to Attend the crime prevention workshop\, learn tips on staying safe and how to report crime or aggressions.\nMonday July 31st \, 2023 2:00-5:00 pm\n¿Eres Vendedor Ambulante en la ciudad de San José? Está invitado a asistir a esta feria de recursos gratuita. Obtenga información sobre programas y recursos para ayudarlo a abrir y hacer crecer su negocio de vendedores ambulantes.\nAsegúrese de asistir al taller de prevención de delitos\, aprenda consejos sobre cómo mantenerse seguro y cómo denunciar delitos o agresiones.\nLunes 31 de julio\, 2023 2-5 pm
URL:https://prosperitylab.org/plb/event/street-vendors-micro-business-resource-fair-workshops/
LOCATION:San Jose City Hall\, 200 E Santa Clara Street\, San Jose\, CA\, 95131\, United States
ATTACH;FMTTYPE=image/png:https://prosperitylab.org/plb/wp-content/uploads/2023/07/Vendor-Resource-Fair-4.png
END:VEVENT
END:VCALENDAR