BEGIN:VCALENDAR
VERSION:2.0
PRODID:-//ProsperityLab - ECPv6.15.11//NONSGML v1.0//EN
CALSCALE:GREGORIAN
METHOD:PUBLISH
X-WR-CALNAME:ProsperityLab
X-ORIGINAL-URL:https://prosperitylab.org/plb
X-WR-CALDESC:Events for ProsperityLab
REFRESH-INTERVAL;VALUE=DURATION:PT1H
X-Robots-Tag:noindex
X-PUBLISHED-TTL:PT1H
BEGIN:VTIMEZONE
TZID:America/Los_Angeles
BEGIN:DAYLIGHT
TZOFFSETFROM:-0800
TZOFFSETTO:-0700
TZNAME:PDT
DTSTART:20220313T100000
END:DAYLIGHT
BEGIN:STANDARD
TZOFFSETFROM:-0700
TZOFFSETTO:-0800
TZNAME:PST
DTSTART:20221106T090000
END:STANDARD
BEGIN:DAYLIGHT
TZOFFSETFROM:-0800
TZOFFSETTO:-0700
TZNAME:PDT
DTSTART:20230312T100000
END:DAYLIGHT
BEGIN:STANDARD
TZOFFSETFROM:-0700
TZOFFSETTO:-0800
TZNAME:PST
DTSTART:20231105T090000
END:STANDARD
BEGIN:DAYLIGHT
TZOFFSETFROM:-0800
TZOFFSETTO:-0700
TZNAME:PDT
DTSTART:20240310T100000
END:DAYLIGHT
BEGIN:STANDARD
TZOFFSETFROM:-0700
TZOFFSETTO:-0800
TZNAME:PST
DTSTART:20241103T090000
END:STANDARD
END:VTIMEZONE
BEGIN:VEVENT
DTSTART;VALUE=DATE:20230601
DTEND;VALUE=DATE:20230701
DTSTAMP:20260422T084258
CREATED:20230601T152601Z
LAST-MODIFIED:20230601T152601Z
UID:1889-1685577600-1688169599@prosperitylab.org
SUMMARY:Pride Month
DESCRIPTION:
URL:https://prosperitylab.org/plb/event/pride-month/
LOCATION:CA
ATTACH;FMTTYPE=image/jpeg:https://prosperitylab.org/plb/wp-content/uploads/2023/06/pride-cover-fb.jpg
END:VEVENT
BEGIN:VEVENT
DTSTART;TZID=America/Los_Angeles:20230629T190000
DTEND;TZID=America/Los_Angeles:20230629T210000
DTSTAMP:20260422T084258
CREATED:20230510T040517Z
LAST-MODIFIED:20230524T214638Z
UID:1800-1688065200-1688072400@prosperitylab.org
SUMMARY:“Negocios Exitosos” ¡Construye resiliencia!
DESCRIPTION:Este programa esta diseñado para negocios familiares pequeños con tres o mas años de operaciones. \nLa principal causa de cierre de operaciones de los pequeños negocios es por falta de conocimiento sobre temas de negocios\, para no ser parte de estas estadísticas\, te invitamos a participar en el programa “NEGOCIOS EXITOSOS” dirigido a dueños de pequeños negocios.\nEl objetivo de los talleres es apoyar y brindar la información necesaria para planificar\, organizar\, dirigir\, ejecutar y controlar los recursos de sus negocios con el fin de obtener el máximo beneficio y lograr negocios EXITOSOS. \n“Negocios Exitosos” \nSeis talleres GRATUITOS\nImpartidos cada jueves por seis semanas\n7:00 – 9:00 p.m.\nSeis Jueves del 22 de junio al 27 de julio de 2023\nIdioma: Español\n6 TALLERES\nPasos para construir un Negocios Exitosos\nFinanzas para tu crecimiento\nMarketing\, Redes Sociales y Ventas\nResponsabilidades para mantener un negocio sano.\nGerencia de tus empleados\nPunto de equilibrio y margen de ganancias
URL:https://prosperitylab.org/plb/event/negocios-exitosos-construye-resiliencia-2/
LOCATION:Cafe 152\, 60 4th Street Eigleberry\, Gilroy\, CA\, 95020
ATTACH;FMTTYPE=image/jpeg:https://prosperitylab.org/plb/wp-content/uploads/2023/05/negocios-exitosos-Gilroy.jpg
END:VEVENT
END:VCALENDAR