BEGIN:VCALENDAR
VERSION:2.0
PRODID:-//ProsperityLab - ECPv6.15.11//NONSGML v1.0//EN
CALSCALE:GREGORIAN
METHOD:PUBLISH
X-WR-CALNAME:ProsperityLab
X-ORIGINAL-URL:https://prosperitylab.org/plb
X-WR-CALDESC:Events for ProsperityLab
REFRESH-INTERVAL;VALUE=DURATION:PT1H
X-Robots-Tag:noindex
X-PUBLISHED-TTL:PT1H
BEGIN:VTIMEZONE
TZID:America/Los_Angeles
BEGIN:DAYLIGHT
TZOFFSETFROM:-0800
TZOFFSETTO:-0700
TZNAME:PDT
DTSTART:20220313T100000
END:DAYLIGHT
BEGIN:STANDARD
TZOFFSETFROM:-0700
TZOFFSETTO:-0800
TZNAME:PST
DTSTART:20221106T090000
END:STANDARD
BEGIN:DAYLIGHT
TZOFFSETFROM:-0800
TZOFFSETTO:-0700
TZNAME:PDT
DTSTART:20230312T100000
END:DAYLIGHT
BEGIN:STANDARD
TZOFFSETFROM:-0700
TZOFFSETTO:-0800
TZNAME:PST
DTSTART:20231105T090000
END:STANDARD
BEGIN:DAYLIGHT
TZOFFSETFROM:-0800
TZOFFSETTO:-0700
TZNAME:PDT
DTSTART:20240310T100000
END:DAYLIGHT
BEGIN:STANDARD
TZOFFSETFROM:-0700
TZOFFSETTO:-0800
TZNAME:PST
DTSTART:20241103T090000
END:STANDARD
END:VTIMEZONE
BEGIN:VEVENT
DTSTART;VALUE=DATE:20230601
DTEND;VALUE=DATE:20230701
DTSTAMP:20260422T085340
CREATED:20230601T152601Z
LAST-MODIFIED:20230601T152601Z
UID:1889-1685577600-1688169599@prosperitylab.org
SUMMARY:Pride Month
DESCRIPTION:
URL:https://prosperitylab.org/plb/event/pride-month/
LOCATION:CA
ATTACH;FMTTYPE=image/jpeg:https://prosperitylab.org/plb/wp-content/uploads/2023/06/pride-cover-fb.jpg
END:VEVENT
BEGIN:VEVENT
DTSTART;TZID=America/Los_Angeles:20230626T180000
DTEND;TZID=America/Los_Angeles:20230626T200000
DTSTAMP:20260422T085340
CREATED:20230530T223222Z
LAST-MODIFIED:20230530T223222Z
UID:1874-1687802400-1687809600@prosperitylab.org
SUMMARY:Zero to Food trucker! Mastering your financial projections
DESCRIPTION:Join food truck expert Alexis Nerguizan for this 6-week\, 2-hour workshop series designed for food entrepreneurs looking to launch their food business. \nFrom Zero to Food Trucker is your roadmap\, guiding you step by step\, from start to launch\, on how to build a profitable food truck business from scratch. \n06/26 Mastering your financial projections \n7/03 Creating your business operating systems \n7/10 Digitizing your food truck and social media marketing tools \n7/17 Presentation of the project and bonus theme
URL:https://prosperitylab.org/plb/event/zero-to-food-trucker-mastering-your-financial-projections/
LOCATION:CA
ATTACH;FMTTYPE=image/png:https://prosperitylab.org/plb/wp-content/uploads/2023/02/SAN-JOSE.png
END:VEVENT
BEGIN:VEVENT
DTSTART;TZID=America/Los_Angeles:20230626T183000
DTEND;TZID=America/Los_Angeles:20230626T203000
DTSTAMP:20260422T085340
CREATED:20230524T213349Z
LAST-MODIFIED:20230524T213349Z
UID:1852-1687804200-1687811400@prosperitylab.org
SUMMARY:COMPUTACIÓN\,  PASO A PASO
DESCRIPTION:Cursos de Informática\nEste curso está diseñado para propietarios de negocios que deseen aprender conocimientos básicos de informática. \nComprender los conceptos básicos\nConectate con email+ herramientas de aprendizaje\nProcesadores\, funciones\, Scaneo y impresion\nAplicaciones para operar su negocio\nSeguridad Cybernetica\n+Laboratorio de computación
URL:https://prosperitylab.org/plb/event/computacion-paso-a-paso-11/
LOCATION:Crossroads Bible Church\, 1670 Moorpark Ave\, San Jose\, CA\, 95128\, United States
ATTACH;FMTTYPE=image/jpeg:https://prosperitylab.org/plb/wp-content/uploads/2023/05/computacionpasoapaso-FB.jpg
END:VEVENT
END:VCALENDAR