BEGIN:VCALENDAR
VERSION:2.0
PRODID:-//ProsperityLab - ECPv6.15.11//NONSGML v1.0//EN
CALSCALE:GREGORIAN
METHOD:PUBLISH
X-WR-CALNAME:ProsperityLab
X-ORIGINAL-URL:https://prosperitylab.org/plb
X-WR-CALDESC:Events for ProsperityLab
REFRESH-INTERVAL;VALUE=DURATION:PT1H
X-Robots-Tag:noindex
X-PUBLISHED-TTL:PT1H
BEGIN:VTIMEZONE
TZID:America/Los_Angeles
BEGIN:DAYLIGHT
TZOFFSETFROM:-0800
TZOFFSETTO:-0700
TZNAME:PDT
DTSTART:20220313T100000
END:DAYLIGHT
BEGIN:STANDARD
TZOFFSETFROM:-0700
TZOFFSETTO:-0800
TZNAME:PST
DTSTART:20221106T090000
END:STANDARD
BEGIN:DAYLIGHT
TZOFFSETFROM:-0800
TZOFFSETTO:-0700
TZNAME:PDT
DTSTART:20230312T100000
END:DAYLIGHT
BEGIN:STANDARD
TZOFFSETFROM:-0700
TZOFFSETTO:-0800
TZNAME:PST
DTSTART:20231105T090000
END:STANDARD
BEGIN:DAYLIGHT
TZOFFSETFROM:-0800
TZOFFSETTO:-0700
TZNAME:PDT
DTSTART:20240310T100000
END:DAYLIGHT
BEGIN:STANDARD
TZOFFSETFROM:-0700
TZOFFSETTO:-0800
TZNAME:PST
DTSTART:20241103T090000
END:STANDARD
END:VTIMEZONE
BEGIN:VEVENT
DTSTART;VALUE=DATE:20230601
DTEND;VALUE=DATE:20230701
DTSTAMP:20260422T085400
CREATED:20230601T152601Z
LAST-MODIFIED:20230601T152601Z
UID:1889-1685577600-1688169599@prosperitylab.org
SUMMARY:Pride Month
DESCRIPTION:
URL:https://prosperitylab.org/plb/event/pride-month/
LOCATION:CA
ATTACH;FMTTYPE=image/jpeg:https://prosperitylab.org/plb/wp-content/uploads/2023/06/pride-cover-fb.jpg
END:VEVENT
BEGIN:VEVENT
DTSTART;TZID=America/Los_Angeles:20230613T180000
DTEND;TZID=America/Los_Angeles:20230613T193000
DTSTAMP:20260422T085400
CREATED:20230510T035145Z
LAST-MODIFIED:20230510T035145Z
UID:1780-1686679200-1686684600@prosperitylab.org
SUMMARY:MAXIMIZE YOUR ONLINE PRESENCE With Digital marketing Strategies
DESCRIPTION:Have you been in business for at least 3 years?\nWould you like to attract more clients? \nThis two-part workshop will teach you how to maximize your online presence so that clients can find you faster and effortlessly. \nTuesday June 6th and 13th\n6:00 – 7:30 p.m.
URL:https://prosperitylab.org/plb/event/maximize-your-online-presence-with-digital-marketing-strategies/
LOCATION:Work2Future Career Center\, 1608 Las Plumas Ave\, San Jose\, CA\, 95133\, United States
ATTACH;FMTTYPE=image/png:https://prosperitylab.org/plb/wp-content/uploads/2023/05/Digital-Marketing-PL-EB.png
END:VEVENT
BEGIN:VEVENT
DTSTART;TZID=America/Los_Angeles:20230613T180000
DTEND;TZID=America/Los_Angeles:20230613T200000
DTSTAMP:20260422T085400
CREATED:20230510T035907Z
LAST-MODIFIED:20230510T035907Z
UID:1791-1686679200-1686686400@prosperitylab.org
SUMMARY:Arranca tu Negocio ¡tu puedes LOGRARLO!
DESCRIPTION:ARRANCA TU NEGOCIO es una gran experiencia personal y profesional. Si estas en etapa de abrir tu negocio debes participar en estos cursos. \nARRANCAR TU NEGOCIO implica muchos retos y aventuras\, es por esto que desarrollamos una serie de talleres que te ayudaran  a dar el primer paso para Arrancar tu negocio de manera correcta y con bases solidas para que tu negocio sea rentable y exitoso.\nEstos cursos estan brindados por Prosperity Lab con apoyo de SBA\, las oficinade desarrollo economico y de asuntos inmigrantes de la ciudad de San Jose y nuestro huesped la oficina del consul General de Mexico En San Jose. Esta serie de 6 talleres GRATUITOS\, impartidos por expertos en diferentes áreas de negocio que te daran las herramientas serán tu guía y te llevaran de la mano en este proceso\n“Arranca tu negocio”\nSeis talleres GRATUITOS\nImpartidos cada martes por seis semanas\n6:00 – 8:00 p.m.\nCuatro martes de 16 de mayo a 27 de junio\nIdioma: Español \n6 TALLERES\nPasos para iniciar tu negocio\nFinanzas para Negocios\nMarketing / E-commerce / Redes Sociales\nPermisos y Responsabilidades\nPlaneacion\nFormacion Legal\nEstos cursos seran suplementado con recursos gratuitos y te guiaremos paso a paso para lanzar tu proyecto.
URL:https://prosperitylab.org/plb/event/arranca-tu-negocio-tu-puedes-lograrlo-5/
LOCATION:Consulado General de Mexico en San Jose\, 302 Enzo Drive\, San Jose\, CA\, 95138\, United States
ATTACH;FMTTYPE=image/png:https://prosperitylab.org/plb/wp-content/uploads/2023/05/ARRANCA-TU-NEGOCIO-CON-CONFIANZA-2.png
END:VEVENT
END:VCALENDAR