BEGIN:VCALENDAR
VERSION:2.0
PRODID:-//ProsperityLab - ECPv6.15.11//NONSGML v1.0//EN
CALSCALE:GREGORIAN
METHOD:PUBLISH
X-ORIGINAL-URL:https://prosperitylab.org/plb
X-WR-CALDESC:Events for ProsperityLab
REFRESH-INTERVAL;VALUE=DURATION:PT1H
X-Robots-Tag:noindex
X-PUBLISHED-TTL:PT1H
BEGIN:VTIMEZONE
TZID:America/Los_Angeles
BEGIN:DAYLIGHT
TZOFFSETFROM:-0800
TZOFFSETTO:-0700
TZNAME:PDT
DTSTART:20220313T100000
END:DAYLIGHT
BEGIN:STANDARD
TZOFFSETFROM:-0700
TZOFFSETTO:-0800
TZNAME:PST
DTSTART:20221106T090000
END:STANDARD
BEGIN:DAYLIGHT
TZOFFSETFROM:-0800
TZOFFSETTO:-0700
TZNAME:PDT
DTSTART:20230312T100000
END:DAYLIGHT
BEGIN:STANDARD
TZOFFSETFROM:-0700
TZOFFSETTO:-0800
TZNAME:PST
DTSTART:20231105T090000
END:STANDARD
BEGIN:DAYLIGHT
TZOFFSETFROM:-0800
TZOFFSETTO:-0700
TZNAME:PDT
DTSTART:20240310T100000
END:DAYLIGHT
BEGIN:STANDARD
TZOFFSETFROM:-0700
TZOFFSETTO:-0800
TZNAME:PST
DTSTART:20241103T090000
END:STANDARD
END:VTIMEZONE
BEGIN:VEVENT
DTSTART;TZID=America/Los_Angeles:20230516T180000
DTEND;TZID=America/Los_Angeles:20230516T200000
DTSTAMP:20260422T072737
CREATED:20230510T035436Z
LAST-MODIFIED:20230516T004313Z
UID:1782-1684260000-1684267200@prosperitylab.org
SUMMARY:Arranca tu Negocio ¡tu puedes LOGRARLO!
DESCRIPTION:  \nARRANCA TU NEGOCIO es una gran experiencia personal y profesional. Si estas en etapa de abrir tu negocio debes participar en estos cursos. \nARRANCAR TU NEGOCIO implica muchos retos y aventuras\, es por esto que desarrollamos una serie de talleres que te ayudaran  a dar el primer paso para Arrancar tu negocio de manera correcta y con bases solidas para que tu negocio sea rentable y exitoso.\nEstos cursos estan brindados por Prosperity Lab con apoyo de SBA\, las oficinade desarrollo economico y de asuntos inmigrantes de la ciudad de San Jose y nuestro huesped la oficina del consul General de Mexico En San Jose. Esta serie de 6 talleres GRATUITOS\, impartidos por expertos en diferentes áreas de negocio que te daran las herramientas serán tu guía y te llevaran de la mano en este proceso\n“Arranca tu negocio”\nSeis talleres GRATUITOS\nImpartidos cada martes por seis semanas\n6:00 – 8:00 p.m.\nCuatro martes de 16 de mayo a 27 de junio
URL:https://prosperitylab.org/plb/event/arranca-tu-negocio-tu-puedes-lograrlo/
LOCATION:Prosperity Lab\, 2150 N First Street\, San Jose\, 95131
ATTACH;FMTTYPE=image/png:https://prosperitylab.org/plb/wp-content/uploads/2023/05/ARRANCA-TU-NEGOCIO-CON-CONFIANZA-2.png
END:VEVENT
END:VCALENDAR