BEGIN:VCALENDAR
VERSION:2.0
PRODID:-//ProsperityLab - ECPv6.15.11//NONSGML v1.0//EN
CALSCALE:GREGORIAN
METHOD:PUBLISH
X-ORIGINAL-URL:https://prosperitylab.org/plb
X-WR-CALDESC:Events for ProsperityLab
REFRESH-INTERVAL;VALUE=DURATION:PT1H
X-Robots-Tag:noindex
X-PUBLISHED-TTL:PT1H
BEGIN:VTIMEZONE
TZID:America/Los_Angeles
BEGIN:DAYLIGHT
TZOFFSETFROM:-0800
TZOFFSETTO:-0700
TZNAME:PDT
DTSTART:20220313T100000
END:DAYLIGHT
BEGIN:STANDARD
TZOFFSETFROM:-0700
TZOFFSETTO:-0800
TZNAME:PST
DTSTART:20221106T090000
END:STANDARD
BEGIN:DAYLIGHT
TZOFFSETFROM:-0800
TZOFFSETTO:-0700
TZNAME:PDT
DTSTART:20230312T100000
END:DAYLIGHT
BEGIN:STANDARD
TZOFFSETFROM:-0700
TZOFFSETTO:-0800
TZNAME:PST
DTSTART:20231105T090000
END:STANDARD
BEGIN:DAYLIGHT
TZOFFSETFROM:-0800
TZOFFSETTO:-0700
TZNAME:PDT
DTSTART:20240310T100000
END:DAYLIGHT
BEGIN:STANDARD
TZOFFSETFROM:-0700
TZOFFSETTO:-0800
TZNAME:PST
DTSTART:20241103T090000
END:STANDARD
END:VTIMEZONE
BEGIN:VEVENT
DTSTART;TZID=America/Los_Angeles:20230512T100000
DTEND;TZID=America/Los_Angeles:20230512T130000
DTSTAMP:20260422T072735
CREATED:20230510T233944Z
LAST-MODIFIED:20230510T234219Z
UID:1822-1683885600-1683896400@prosperitylab.org
SUMMARY:Tools to Grow Your Online Presence and Manage Your Finances
DESCRIPTION:Connect with other small business owners and entrepreneurs to learn about important resources and tools to help your small business thrive. Celebrate and take part in National Small Business Month this May by connecting with other small business owners and entrepreneurs to learn about important resources and tools to help your small business thrive. \nTwo panels will share information on: \n• How to use social media like TikTok or Instagram Reels\, Search Engine Optimization or paid targeted advertisements to market your business; \n• Financial tools business owners need to organize their paperwork for tax purposes or apply for a loan. \nIn addition\, meet other small business owners\, network with City staff\, non-profit organizations and service providers to learn about resources that can help your business succeed. \nThis event is free and lunch will be provided. CLICK HERE \nLive interpretation in Spanish\, Vietnamese or Chinese can be provided – \nAnswer ‘yes’ to interpretation when registering.
URL:https://prosperitylab.org/plb/event/tools-to-grow-your-online-presence-and-manage-your-finances/
LOCATION:San Jose City Hall\, 200 E Santa Clara Street\, San Jose\, CA\, 95131\, United States
ATTACH;FMTTYPE=image/jpeg:https://prosperitylab.org/plb/wp-content/uploads/2023/05/https___cdn.evbuc_.com_images_500142289_256180685202_1_original.jpg
END:VEVENT
END:VCALENDAR