BEGIN:VCALENDAR
VERSION:2.0
PRODID:-//ProsperityLab - ECPv6.15.11//NONSGML v1.0//EN
CALSCALE:GREGORIAN
METHOD:PUBLISH
X-ORIGINAL-URL:https://prosperitylab.org/plb
X-WR-CALDESC:Events for ProsperityLab
REFRESH-INTERVAL;VALUE=DURATION:PT1H
X-Robots-Tag:noindex
X-PUBLISHED-TTL:PT1H
BEGIN:VTIMEZONE
TZID:America/Los_Angeles
BEGIN:DAYLIGHT
TZOFFSETFROM:-0800
TZOFFSETTO:-0700
TZNAME:PDT
DTSTART:20220313T100000
END:DAYLIGHT
BEGIN:STANDARD
TZOFFSETFROM:-0700
TZOFFSETTO:-0800
TZNAME:PST
DTSTART:20221106T090000
END:STANDARD
BEGIN:DAYLIGHT
TZOFFSETFROM:-0800
TZOFFSETTO:-0700
TZNAME:PDT
DTSTART:20230312T100000
END:DAYLIGHT
BEGIN:STANDARD
TZOFFSETFROM:-0700
TZOFFSETTO:-0800
TZNAME:PST
DTSTART:20231105T090000
END:STANDARD
BEGIN:DAYLIGHT
TZOFFSETFROM:-0800
TZOFFSETTO:-0700
TZNAME:PDT
DTSTART:20240310T100000
END:DAYLIGHT
BEGIN:STANDARD
TZOFFSETFROM:-0700
TZOFFSETTO:-0800
TZNAME:PST
DTSTART:20241103T090000
END:STANDARD
END:VTIMEZONE
BEGIN:VEVENT
DTSTART;TZID=America/Los_Angeles:20230429T090000
DTEND;TZID=America/Los_Angeles:20230429T153000
DTSTAMP:20260422T051636
CREATED:20230412T185750Z
LAST-MODIFIED:20230412T185931Z
UID:1760-1682758800-1682782200@prosperitylab.org
SUMMARY:Santa Clara County Women’s Leadership: A Seat at the Table
DESCRIPTION:We are excited to invite you to the sixth annual Santa Clara County Women’s Leadership\,  This year’s event promises to be an engaging and empowering day\, filled with mindful activities\, educational workshops\, and opportunities to share resources for equitable policy changes\, leadership development\, and tools to uplift women. \nTime: 9am – 3:30pm (Registration will open at 8:30am) SPACE IS LIMITED\, PLEASE RSVP BY: Friday\, April 21\, 2023 \nRSVP at: bit.ly/womensummit_2023 \nSince its inception in 2018\, the Women’s Leadership and Policy Summit has been incredibly successful\, filling to capacity each year with community leaders and allies who are passionate about women’s issues. This year\, we are expecting 600 attendees\, including elected officials\, business and community leaders\, and youth advocates. \nThe summit will include workshops on topics such as Women’s Economic Empowerment and Entrepreneurship\, Nontraditional Career Paths\, Salary Negotiations\, Women’s Overall Health\, and more. Workshops will also be available in Spanish and Vietnamese. \n 
URL:https://prosperitylab.org/plb/event/santa-clara-county-womens-leadership-a-seat-at-the-table/
LOCATION:West Valley College\, 14000 Fruitvale Avenue\, Saratoga\, CA\, 95070\, United States
ATTACH;FMTTYPE=image/jpeg:https://prosperitylab.org/plb/wp-content/uploads/2023/04/Women-Summit-2023-Invitation-Flyer-English.jpg
END:VEVENT
BEGIN:VEVENT
DTSTART;TZID=America/Los_Angeles:20230429T093000
DTEND;TZID=America/Los_Angeles:20230429T133000
DTSTAMP:20260422T051636
CREATED:20230315T001118Z
LAST-MODIFIED:20230315T001118Z
UID:1728-1682760600-1682775000@prosperitylab.org
SUMMARY:EL SUEÑO AMERICANO CON SU ITIN
DESCRIPTION:Construya su sueño americano aprendiendo como comenzar su propio negocio con su ITIN. \nEn el proceso\, tambien aprendera a comprar una casa con su ITIN y dejar algo para su familia. \nVenga a aprender de expertos y organizaciones de confianza.
URL:https://prosperitylab.org/plb/event/el-sueno-americano-con-su-itin/
LOCATION:National Hispanic University Campus\, 14271 Story Road\, San Jose\, CA\, 95127\, United States
ATTACH;FMTTYPE=application/pdf:https://prosperitylab.org/plb/wp-content/uploads/2023/03/ElSuenoAmericanoConSuITIN.pdf
END:VEVENT
END:VCALENDAR