BEGIN:VCALENDAR
VERSION:2.0
PRODID:-//ProsperityLab - ECPv6.15.11//NONSGML v1.0//EN
CALSCALE:GREGORIAN
METHOD:PUBLISH
X-ORIGINAL-URL:https://prosperitylab.org/plb
X-WR-CALDESC:Events for ProsperityLab
REFRESH-INTERVAL;VALUE=DURATION:PT1H
X-Robots-Tag:noindex
X-PUBLISHED-TTL:PT1H
BEGIN:VTIMEZONE
TZID:America/Los_Angeles
BEGIN:DAYLIGHT
TZOFFSETFROM:-0800
TZOFFSETTO:-0700
TZNAME:PDT
DTSTART:20220313T100000
END:DAYLIGHT
BEGIN:STANDARD
TZOFFSETFROM:-0700
TZOFFSETTO:-0800
TZNAME:PST
DTSTART:20221106T090000
END:STANDARD
BEGIN:DAYLIGHT
TZOFFSETFROM:-0800
TZOFFSETTO:-0700
TZNAME:PDT
DTSTART:20230312T100000
END:DAYLIGHT
BEGIN:STANDARD
TZOFFSETFROM:-0700
TZOFFSETTO:-0800
TZNAME:PST
DTSTART:20231105T090000
END:STANDARD
BEGIN:DAYLIGHT
TZOFFSETFROM:-0800
TZOFFSETTO:-0700
TZNAME:PDT
DTSTART:20240310T100000
END:DAYLIGHT
BEGIN:STANDARD
TZOFFSETFROM:-0700
TZOFFSETTO:-0800
TZNAME:PST
DTSTART:20241103T090000
END:STANDARD
END:VTIMEZONE
BEGIN:VEVENT
DTSTART;TZID=America/Los_Angeles:20230415T130000
DTEND;TZID=America/Los_Angeles:20230415T160000
DTSTAMP:20260422T051719
CREATED:20230412T182542Z
LAST-MODIFIED:20230412T182542Z
UID:1754-1681563600-1681574400@prosperitylab.org
SUMMARY:Honoring our Cannery Workers - Honrando Trabajadores de las Canerias
DESCRIPTION:Join The Gardner Neighborhood during this community event honoring the legacy of Cannery Workers in San Jose.  The event will include: \n\nA Low Rider Display\nFolklorico Performances\nArt Exhibit\nDocumentary Screening\nMusic & Dancing\n\nThere will also be resources tables with valuable information for tour community. \nÚnase a The Gardner Neighborhood durante este evento comunitario que honra el legado de Cannery Workers en San José. El evento incluirá: \nUna pantalla Low Rider\nEspectáculos folclóricos\nExhibición de arte\nProyección de Documental\nMúsica y baile \nTambién habrá mesas de recursos con información valiosa para la comunidad turística.
URL:https://prosperitylab.org/plb/event/honoring-our-cannery-workers-honrando-trabajadores-de-las-canerias/
LOCATION:Gardner Community Center\, 520 W Virginia Street\, San Jose\, CA\, 95125\, United States
ATTACH;FMTTYPE=image/jpeg:https://prosperitylab.org/plb/wp-content/uploads/2023/04/20230415-spa.jpg
END:VEVENT
END:VCALENDAR