BEGIN:VCALENDAR
VERSION:2.0
PRODID:-//ProsperityLab - ECPv6.15.11//NONSGML v1.0//EN
CALSCALE:GREGORIAN
METHOD:PUBLISH
X-ORIGINAL-URL:https://prosperitylab.org/plb
X-WR-CALDESC:Events for ProsperityLab
REFRESH-INTERVAL;VALUE=DURATION:PT1H
X-Robots-Tag:noindex
X-PUBLISHED-TTL:PT1H
BEGIN:VTIMEZONE
TZID:America/Los_Angeles
BEGIN:DAYLIGHT
TZOFFSETFROM:-0800
TZOFFSETTO:-0700
TZNAME:PDT
DTSTART:20220313T100000
END:DAYLIGHT
BEGIN:STANDARD
TZOFFSETFROM:-0700
TZOFFSETTO:-0800
TZNAME:PST
DTSTART:20221106T090000
END:STANDARD
BEGIN:DAYLIGHT
TZOFFSETFROM:-0800
TZOFFSETTO:-0700
TZNAME:PDT
DTSTART:20230312T100000
END:DAYLIGHT
BEGIN:STANDARD
TZOFFSETFROM:-0700
TZOFFSETTO:-0800
TZNAME:PST
DTSTART:20231105T090000
END:STANDARD
BEGIN:DAYLIGHT
TZOFFSETFROM:-0800
TZOFFSETTO:-0700
TZNAME:PDT
DTSTART:20240310T100000
END:DAYLIGHT
BEGIN:STANDARD
TZOFFSETFROM:-0700
TZOFFSETTO:-0800
TZNAME:PST
DTSTART:20241103T090000
END:STANDARD
END:VTIMEZONE
BEGIN:VEVENT
DTSTART;TZID=America/Los_Angeles:20230412T180000
DTEND;TZID=America/Los_Angeles:20230412T200000
DTSTAMP:20260422T051626
CREATED:20230218T215036Z
LAST-MODIFIED:20230301T170944Z
UID:1719-1681322400-1681329600@prosperitylab.org
SUMMARY:COMPUTACIÓN PASO A PASO
DESCRIPTION:Cursos de Informática \nEste curso está diseñado para propietarios de negocios que deseen aprender conocimientos básicos de informática.\nLos cursos requieren una evaluación previa para determinar su nivel de habilidad. Se requiere que los participantes asistan y participen en los cuatro módulos más el tiempo de laboratorio de computación. La finalización de estos cursos calificará a los dueños de negocios para programas de habilidades informáticas más intermedios y avanzados.\nApuntate hoy solo hay 15 espacios disponibles \nComprender los conceptos básicos del hardware de la computadora y cómo operar el software.\nConectarse\, enviar correos electrónicos y herramientas de aprendizaje en línea\nProcesadores de texto básicos\, funciones de powerpoint\, escaneo de documentos e impresión de su trabajo\nComunicaciones de redes sociales y aplicaciones para ayudar a operar su pequeña empresa. \n 
URL:https://prosperitylab.org/plb/event/computacion-paso-a-paso-7/
LOCATION:Dr. Martin Luther King Jr Library\, 150 E San Fernando Street\, San Jose\, CA\, 95110\, United States
ATTACH;FMTTYPE=image/png:https://prosperitylab.org/plb/wp-content/uploads/2023/02/computacionpasoapaso-SQ.png
END:VEVENT
END:VCALENDAR