BEGIN:VCALENDAR
VERSION:2.0
PRODID:-//ProsperityLab - ECPv6.15.11//NONSGML v1.0//EN
CALSCALE:GREGORIAN
METHOD:PUBLISH
X-ORIGINAL-URL:https://prosperitylab.org/plb
X-WR-CALDESC:Events for ProsperityLab
REFRESH-INTERVAL;VALUE=DURATION:PT1H
X-Robots-Tag:noindex
X-PUBLISHED-TTL:PT1H
BEGIN:VTIMEZONE
TZID:America/Los_Angeles
BEGIN:DAYLIGHT
TZOFFSETFROM:-0800
TZOFFSETTO:-0700
TZNAME:PDT
DTSTART:20220313T100000
END:DAYLIGHT
BEGIN:STANDARD
TZOFFSETFROM:-0700
TZOFFSETTO:-0800
TZNAME:PST
DTSTART:20221106T090000
END:STANDARD
BEGIN:DAYLIGHT
TZOFFSETFROM:-0800
TZOFFSETTO:-0700
TZNAME:PDT
DTSTART:20230312T100000
END:DAYLIGHT
BEGIN:STANDARD
TZOFFSETFROM:-0700
TZOFFSETTO:-0800
TZNAME:PST
DTSTART:20231105T090000
END:STANDARD
BEGIN:DAYLIGHT
TZOFFSETFROM:-0800
TZOFFSETTO:-0700
TZNAME:PDT
DTSTART:20240310T100000
END:DAYLIGHT
BEGIN:STANDARD
TZOFFSETFROM:-0700
TZOFFSETTO:-0800
TZNAME:PST
DTSTART:20241103T090000
END:STANDARD
END:VTIMEZONE
BEGIN:VEVENT
DTSTART;TZID=America/Los_Angeles:20230411T180000
DTEND;TZID=America/Los_Angeles:20230411T200000
DTSTAMP:20260422T051627
CREATED:20230218T185615Z
LAST-MODIFIED:20230218T185615Z
UID:1688-1681236000-1681243200@prosperitylab.org
SUMMARY:Smart Start\, Arranca tu Negocio con Confianza
DESCRIPTION:¡Renaissance Entrepreneurial Center y Prosperity Lab te invita a lanzar tu negocio con confianza! \nLa serie de clases Start Smart ayuda a los estudiantes a desarrollar su idea de negocio en un plan de acción utilizando un Business Model Canvas.\nCuatro Martes de 6-8 pm 3/21 a 4/11\nLa clase primero guía a los estudiantes a través de la mentalidad exitosa y las habilidades necesarias para alcanzar sus objetivos comerciales. Luego\, los estudiantes trabajan en la definición de su sueño y en el desarrollo de su declaración de misión.\nLos estudiantes utilizarán Business Model Canvas\, que es un generador de modelos de negocios flexible que les permitirá ver todos los elementos de su negocio en una sola vista. A lo largo de la clase\, los estudiantes continuarán refinando su misión y visión para crear un plan de acción.\nEste tema requiere participación en cuatro módulos semanales e incluye asistencia individual para completar tu plan de negocio y lanzar tu negocio. \n 
URL:https://prosperitylab.org/plb/event/smart-start-arranca-tu-negocio-con-confianza-3/
LOCATION:Work2Future Career Center\, 1608 Las Plumas Ave\, San Jose\, CA\, 95133\, United States
ATTACH;FMTTYPE=image/png:https://prosperitylab.org/plb/wp-content/uploads/2023/02/arrancaconconfianza-SQ.png
END:VEVENT
END:VCALENDAR