BEGIN:VCALENDAR
VERSION:2.0
PRODID:-//ProsperityLab - ECPv6.15.11//NONSGML v1.0//EN
CALSCALE:GREGORIAN
METHOD:PUBLISH
X-ORIGINAL-URL:https://prosperitylab.org/plb
X-WR-CALDESC:Events for ProsperityLab
REFRESH-INTERVAL;VALUE=DURATION:PT1H
X-Robots-Tag:noindex
X-PUBLISHED-TTL:PT1H
BEGIN:VTIMEZONE
TZID:America/Los_Angeles
BEGIN:DAYLIGHT
TZOFFSETFROM:-0800
TZOFFSETTO:-0700
TZNAME:PDT
DTSTART:20220313T100000
END:DAYLIGHT
BEGIN:STANDARD
TZOFFSETFROM:-0700
TZOFFSETTO:-0800
TZNAME:PST
DTSTART:20221106T090000
END:STANDARD
BEGIN:DAYLIGHT
TZOFFSETFROM:-0800
TZOFFSETTO:-0700
TZNAME:PDT
DTSTART:20230312T100000
END:DAYLIGHT
BEGIN:STANDARD
TZOFFSETFROM:-0700
TZOFFSETTO:-0800
TZNAME:PST
DTSTART:20231105T090000
END:STANDARD
BEGIN:DAYLIGHT
TZOFFSETFROM:-0800
TZOFFSETTO:-0700
TZNAME:PDT
DTSTART:20240310T100000
END:DAYLIGHT
BEGIN:STANDARD
TZOFFSETFROM:-0700
TZOFFSETTO:-0800
TZNAME:PST
DTSTART:20241103T090000
END:STANDARD
END:VTIMEZONE
BEGIN:VEVENT
DTSTART;TZID=America/Los_Angeles:20230403T180000
DTEND;TZID=America/Los_Angeles:20230403T200000
DTSTAMP:20260422T051720
CREATED:20230218T200307Z
LAST-MODIFIED:20230218T200307Z
UID:1695-1680544800-1680552000@prosperitylab.org
SUMMARY:Pop Ups 2.0 San Jose Makers
DESCRIPTION:Renaissance Entrepreneurial Center\, San Jose Makers and Prosperity Present Pop Ups 2.0 \nJoin the team of instructors and business’ advisors for a program to help you launch your very own Pop Up market store. These series of workshops will guide you step by step to plan\, prepare and launch your very own Pop Up market product or service.\nSix free weekly workshops will be facilitated free of cost to you\, upon completion fo the courses you will receive individual help in launching your project.\nPopUP 2.0 topics will include:\nObtaining your business permits\nSelling Food Products at farmers markets& Cottage food law\nFinancing your projects traditonal and alternative funding\nMarketing I\,\nMarketing II\nUnderstanding your tax obligations & business insurance\nPop Ups 2.0 requires commitment to attend all courses and class participation.
URL:https://prosperitylab.org/plb/event/pop-ups-2-0-san-jose-makers-3/
LOCATION:Work2Future Career Center\, 1608 Las Plumas Ave\, San Jose\, CA\, 95133\, United States
ATTACH;FMTTYPE=image/png:https://prosperitylab.org/plb/wp-content/uploads/2023/02/sjmaker-sq.png
END:VEVENT
BEGIN:VEVENT
DTSTART;TZID=America/Los_Angeles:20230403T183000
DTEND;TZID=America/Los_Angeles:20230403T203000
DTSTAMP:20260422T051720
CREATED:20230322T153031Z
LAST-MODIFIED:20230322T153031Z
UID:1741-1680546600-1680553800@prosperitylab.org
SUMMARY:Semillas\, tu carrito de Comida
DESCRIPTION:
URL:https://prosperitylab.org/plb/event/semillas-tu-carrito-de-comida-3/
LOCATION:Crossroads Bible Church\, 1670 Moorpark Ave\, San Jose\, CA\, 95128\, United States
ATTACH;FMTTYPE=image/png:https://prosperitylab.org/plb/wp-content/uploads/2023/02/semillasCDC-rec-1.png
END:VEVENT
END:VCALENDAR