BEGIN:VCALENDAR
VERSION:2.0
PRODID:-//ProsperityLab - ECPv6.15.11//NONSGML v1.0//EN
CALSCALE:GREGORIAN
METHOD:PUBLISH
X-WR-CALNAME:ProsperityLab
X-ORIGINAL-URL:https://prosperitylab.org/plb
X-WR-CALDESC:Events for ProsperityLab
REFRESH-INTERVAL;VALUE=DURATION:PT1H
X-Robots-Tag:noindex
X-PUBLISHED-TTL:PT1H
BEGIN:VTIMEZONE
TZID:America/Los_Angeles
BEGIN:DAYLIGHT
TZOFFSETFROM:-0800
TZOFFSETTO:-0700
TZNAME:PDT
DTSTART:20220313T100000
END:DAYLIGHT
BEGIN:STANDARD
TZOFFSETFROM:-0700
TZOFFSETTO:-0800
TZNAME:PST
DTSTART:20221106T090000
END:STANDARD
BEGIN:DAYLIGHT
TZOFFSETFROM:-0800
TZOFFSETTO:-0700
TZNAME:PDT
DTSTART:20230312T100000
END:DAYLIGHT
BEGIN:STANDARD
TZOFFSETFROM:-0700
TZOFFSETTO:-0800
TZNAME:PST
DTSTART:20231105T090000
END:STANDARD
BEGIN:DAYLIGHT
TZOFFSETFROM:-0800
TZOFFSETTO:-0700
TZNAME:PDT
DTSTART:20240310T100000
END:DAYLIGHT
BEGIN:STANDARD
TZOFFSETFROM:-0700
TZOFFSETTO:-0800
TZNAME:PST
DTSTART:20241103T090000
END:STANDARD
END:VTIMEZONE
BEGIN:VEVENT
DTSTART;TZID=America/Los_Angeles:20230116T120000
DTEND;TZID=America/Los_Angeles:20230116T140000
DTSTAMP:20260422T001055
CREATED:20230106T191432Z
LAST-MODIFIED:20230106T191432Z
UID:1634-1673870400-1673877600@prosperitylab.org
SUMMARY:43rd Annual MLK Luncheon
DESCRIPTION:The African American Community Service Agency (AACSA) is excited about the upcoming 43rd Annual Dr. Martin Luther King\, Jr. Luncheon program on Monday\, January 16\, 2023 from 12:00 noon to 2:00 pm.
URL:https://prosperitylab.org/plb/event/43rd-annual-mlk-luncheon/
LOCATION:Holiday Inn San Jose- Silicon Valley\, 1350 N First Street\, San Jose\, CA\, 95112\, United States
ATTACH;FMTTYPE=image/jpeg:https://prosperitylab.org/plb/wp-content/uploads/2023/01/43rd-MLK-luncheon.jpg
END:VEVENT
END:VCALENDAR