BEGIN:VCALENDAR
VERSION:2.0
PRODID:-//ProsperityLab - ECPv6.15.11//NONSGML v1.0//EN
CALSCALE:GREGORIAN
METHOD:PUBLISH
X-ORIGINAL-URL:https://prosperitylab.org/plb
X-WR-CALDESC:Events for ProsperityLab
REFRESH-INTERVAL;VALUE=DURATION:PT1H
X-Robots-Tag:noindex
X-PUBLISHED-TTL:PT1H
BEGIN:VTIMEZONE
TZID:America/Los_Angeles
BEGIN:DAYLIGHT
TZOFFSETFROM:-0800
TZOFFSETTO:-0700
TZNAME:PDT
DTSTART:20210314T100000
END:DAYLIGHT
BEGIN:STANDARD
TZOFFSETFROM:-0700
TZOFFSETTO:-0800
TZNAME:PST
DTSTART:20211107T090000
END:STANDARD
BEGIN:DAYLIGHT
TZOFFSETFROM:-0800
TZOFFSETTO:-0700
TZNAME:PDT
DTSTART:20220313T100000
END:DAYLIGHT
BEGIN:STANDARD
TZOFFSETFROM:-0700
TZOFFSETTO:-0800
TZNAME:PST
DTSTART:20221106T090000
END:STANDARD
BEGIN:DAYLIGHT
TZOFFSETFROM:-0800
TZOFFSETTO:-0700
TZNAME:PDT
DTSTART:20230312T100000
END:DAYLIGHT
BEGIN:STANDARD
TZOFFSETFROM:-0700
TZOFFSETTO:-0800
TZNAME:PST
DTSTART:20231105T090000
END:STANDARD
END:VTIMEZONE
BEGIN:VEVENT
DTSTART;TZID=America/Los_Angeles:20220818T100000
DTEND;TZID=America/Los_Angeles:20220818T113000
DTSTAMP:20260421T150155
CREATED:20220815T183839Z
LAST-MODIFIED:20220815T183839Z
UID:1313-1660816800-1660822200@prosperitylab.org
SUMMARY:How to Use Data to Strategically Attract and Retain Workers
DESCRIPTION:When employees have so many choices\, what is the secret sauce to keeping them? Learn how to attract and retain quality team members by strategically using data to conduct a pay equity assessment. This workshop will provide businesses with critical insights on the key factors to keep in mind when undertaking a pay equity audit\, and how to use this process to make employees feel valued. \nObjectives:\n• Learn what is a pay audit is and why it is important\n• Learn how to conduct a pay audit\n• Learn how to implement a strategy to respond to the results
URL:https://prosperitylab.org/plb/event/how-to-use-data-to-strategically-attract-and-retain-workers/
LOCATION:CA
ATTACH;FMTTYPE=image/png:https://prosperitylab.org/plb/wp-content/uploads/2022/06/down-town-768x768-1.png
END:VEVENT
BEGIN:VEVENT
DTSTART;TZID=America/Los_Angeles:20220818T180000
DTEND;TZID=America/Los_Angeles:20220818T200000
DTSTAMP:20260421T150155
CREATED:20220713T205444Z
LAST-MODIFIED:20220819T221356Z
UID:1233-1660845600-1660852800@prosperitylab.org
SUMMARY:SỰ BẮT ĐẦU KHÔN NGOAN III
DESCRIPTION:BẠN SẼ ĐƯỢC HƯỚNG DẪN HỌC CÁCH: \n8/4 Đánh giá điểm mạnh và yếu của kế hoạch kinh doanh \n8/11 Chuyển đổi những ý tưởng của bạn thành 1 kế hoạch kinh doanh cụ thể \nHọc hỏi từ các chủ doanh nghiệp dày dặn kinh nghiệm. Bạn sẽ nhận được 4 tiếng tư vấn miễn phí sau khi hoàn tất lớp học
URL:https://prosperitylab.org/plb/event/su-bat-dau-khon-ngoan-iii/
LOCATION:CA
ATTACH;FMTTYPE=image/jpeg:https://prosperitylab.org/plb/wp-content/uploads/2022/07/smartstart-viet3601.jpeg
END:VEVENT
END:VCALENDAR